| logitT 1.2.0 Tobias Guennel
 
 | Bioconductor Changelog |  | Snapshot Date: 2009-10-20 11:27:33 -0700 (Tue, 20 Oct 2009) |  | URL: https://hedgehog.fhcrc.org/bioconductor/branches/RELEASE_2_4/madman/Rpacks/logitT |  | Last Changed Rev: 39013 / Revision: 42512 |  | Last Changed Date: 2009-04-20 16:24:12 -0700 (Mon, 20 Apr 2009) | 
 | wilson1 | Linux (openSUSE 11.1) / x86_64 | OK | OK |  | 
| liverpool | Windows Server 2003 R2 (32-bit) / x64 | OK | OK | OK | 
| pitt | Mac OS X Tiger (10.4.11) / i386 | OK | OK | [ OK ] | 
| pelham | Mac OS X Leopard (10.5.8) / i386 | OK | OK | OK | 
                INSTALLATION WITH 'R CMD INSTALL --preclean --library=logitT.buildbin-libdir logitT_1.2.0.tar.gz'
* Installing *source* package ‘logitT’ ...
** libs
** arch - i386
gcc -arch i386 -std=gnu99 -I/Library/Frameworks/R.framework/Versions/2.9/Resources/include -I/Library/Frameworks/R.framework/Versions/2.9/Resources/include/i386  -I/usr/local/include    -fPIC  -mtune=core2 -g -O2 -c logitTfunc.c -o logitTfunc.o
gcc -arch i386 -std=gnu99 -dynamiclib -Wl,-headerpad_max_install_names -mmacosx-version-min=10.4 -undefined dynamic_lookup -single_module -multiply_defined suppress -L/usr/local/lib -o logitT.so logitTfunc.o -F/Library/Frameworks/R.framework/.. -framework R -Wl,-framework -Wl,CoreFoundation
** arch - ppc
gcc -arch ppc -std=gnu99 -I/Library/Frameworks/R.framework/Versions/2.9/Resources/include -I/Library/Frameworks/R.framework/Versions/2.9/Resources/include/ppc  -I/usr/local/include    -fPIC  -g -O2 -c logitTfunc.c -o logitTfunc.o
gcc -arch ppc -std=gnu99 -dynamiclib -Wl,-headerpad_max_install_names -mmacosx-version-min=10.4 -undefined dynamic_lookup -single_module -multiply_defined suppress -L/usr/local/lib -o logitT.so logitTfunc.o -F/Library/Frameworks/R.framework/.. -framework R -Wl,-framework -Wl,CoreFoundation
** R
** inst
** preparing package for lazy loading
Loading required package: Biobase
Welcome to Bioconductor
  Vignettes contain introductory material. To view, type
  'openVignette()'. To cite Bioconductor, see
  'citation("Biobase")' and for packages 'citation(pkgname)'.
** help
*** installing help indices
 >>> Building/Updating help pages for package 'logitT'
     Formats: text html latex example 
  logitTAffy                        text    html    latex   example
** building package indices ...
* DONE (logitT)