| logicFS 1.14.0 Holger Schwender
 
 | Bioconductor Changelog |  | Snapshot Date: 2009-10-20 11:27:33 -0700 (Tue, 20 Oct 2009) |  | URL: https://hedgehog.fhcrc.org/bioconductor/branches/RELEASE_2_4/madman/Rpacks/logicFS |  | Last Changed Rev: 39013 / Revision: 42512 |  | Last Changed Date: 2009-04-20 16:24:12 -0700 (Mon, 20 Apr 2009) | 
 | wilson1 | Linux (openSUSE 11.1) / x86_64 | OK | OK |  | 
| liverpool | Windows Server 2003 R2 (32-bit) / x64 | OK | OK | OK | 
| pitt | Mac OS X Tiger (10.4.11) / i386 | OK | OK | OK | 
| pelham | Mac OS X Leopard (10.5.8) / i386 | [ OK ] | OK | OK | 
* checking for file 'logicFS/DESCRIPTION' ... OK
* preparing 'logicFS':
* checking DESCRIPTION meta-information ... OK
* installing the package to re-build vignettes
* Installing *source* package ‘logicFS’ ...
** R
** data
** inst
** preparing package for lazy loading
Loading required package: survival
Loading required package: splines
** help
*** installing help indices
 >>> Building/Updating help pages for package 'logicFS'
     Formats: text html latex example 
  data.logicfs                      text    html    latex
  getMatEval                        text    html    latex
  logic.bagging                     text    html    latex   example
  logic.oob                         text    html    latex
  logic.pimp                        text    html    latex
  logicFS-internal                  text    html    latex
  logicFS                           text    html    latex   example
  make.snp.dummy                    text    html    latex
  minDNF                            text    html    latex
  mlogreg                           text    html    latex
  plot.logicFS                      text    html    latex
  predict.logicBagg                 text    html    latex
  predict.mlogreg                   text    html    latex
  print.logicFS                     text    html    latex
  vim.chisq                         text    html    latex
  vim.ebam                          text    html    latex
  vim.individual                    text    html    latex
  vim.logicFS                       text    html    latex
  vim.norm                          text    html    latex
  vim.set                           text    html    latex
** building package indices ...
* DONE (logicFS)
* creating vignettes ... OK
* removing junk files
* checking for LF line-endings in source and make files
* checking for empty or unneeded directories
* building 'logicFS_1.14.0.tar.gz'