| goProfiles 1.6.0 Alex Sanchez
 
 | Bioconductor Changelog |  | Snapshot Date: 2009-10-20 11:27:33 -0700 (Tue, 20 Oct 2009) |  | URL: https://hedgehog.fhcrc.org/bioconductor/branches/RELEASE_2_4/madman/Rpacks/goProfiles |  | Last Changed Rev: 39013 / Revision: 42512 |  | Last Changed Date: 2009-04-20 16:24:12 -0700 (Mon, 20 Apr 2009) | 
 | wilson1 | Linux (openSUSE 11.1) / x86_64 | [ OK ] | OK |  | 
| liverpool | Windows Server 2003 R2 (32-bit) / x64 | OK | OK | OK | 
| pitt | Mac OS X Tiger (10.4.11) / i386 | OK | OK | OK | 
| pelham | Mac OS X Leopard (10.5.8) / i386 | OK | OK | OK | 
* checking for file 'goProfiles/DESCRIPTION' ... OK
* preparing 'goProfiles':
* checking DESCRIPTION meta-information ... OK
* installing the package to re-build vignettes
* Installing *source* package 'goProfiles' ...
** R
** data
** inst
** preparing package for lazy loading
Welcome to Bioconductor
  Vignettes contain introductory material. To view, type
  'openVignette()'. To cite Bioconductor, see
  'citation("Biobase")' and for packages 'citation(pkgname)'.
Loading required package: DBI
** help
*** installing help indices
 >>> Building/Updating help pages for package 'goProfiles'
     Formats: text html latex example 
  CD4ids                            text    html    latex   example
  GOTermsList                       text    html    latex   example
  basicProfile                      text    html    latex   example
  compSummary                       text    html    latex   example
  compareGOProfiles                 text    html    latex   example
  compareGeneLists                  text    html    latex   example
  compareProfilesLists              text    html    latex   example
  conversionFunctions               text    html    latex   example
  drosophila                        text    html    latex   example
  equivSummary                      text    html    latex   example
  equivalentGOProfiles              text    html    latex   example
  expandedLevel                     text    html    latex   example
  expandedProfile                   text    html    latex   example
  fitGOProfile                      text    html    latex   example
  goProfiles-package                text    html    latex
  hugoIds                           text    html    latex   example
  mergeProfilesLists                text    html    latex   example
  omimIds                           text    html    latex   example
  plotProfiles                      text    html    latex   example
  printProfiles                     text    html    latex   example
  prostateIds                       text    html    latex   example
  sampleProfiles                    text    html    latex   example
** building package indices ...
* DONE (goProfiles)
* creating vignettes ... OK
* removing junk files
* checking for LF line-endings in source and make files
* checking for empty or unneeded directories
* building 'goProfiles_1.6.0.tar.gz'