flowViz 1.8.0 Florian Hahne
 | Bioconductor Changelog |  | Snapshot Date: 2009-10-20 11:27:33 -0700 (Tue, 20 Oct 2009) |  | URL: https://hedgehog.fhcrc.org/bioconductor/branches/RELEASE_2_4/madman/Rpacks/flowViz |  | Last Changed Rev: 39013 / Revision: 42512 |  | Last Changed Date: 2009-04-20 16:24:12 -0700 (Mon, 20 Apr 2009) |  
  | wilson1  | Linux (openSUSE 11.1) / x86_64  | [ OK ] |  OK  |  | 
| liverpool  | Windows Server 2003 R2 (32-bit) / x64  |  OK  |  OK  |  OK  | 
| pitt  | Mac OS X Tiger (10.4.11) / i386  |  OK  |  OK  |  OK  | 
| pelham  | Mac OS X Leopard (10.5.8) / i386  |  OK  |  OK  |  OK  | 
* checking for file 'flowViz/DESCRIPTION' ... OK
* preparing 'flowViz':
* checking DESCRIPTION meta-information ... OK
* cleaning src
* installing the package to re-build vignettes
* Installing *source* package 'flowViz' ...
** libs
gcc -std=gnu99 -I/home/biocbuild/bbs-2.4-bioc/R/include  -I/usr/local/include    -fpic  -g -O2 -Wall -c hexbin.c -o hexbin.o
gcc -std=gnu99 -I/home/biocbuild/bbs-2.4-bioc/R/include  -I/usr/local/include    -fpic  -g -O2 -Wall -c init.c -o init.o
gcc -std=gnu99 -shared -L/usr/local/lib64 -o flowViz.so hexbin.o init.o -L/home/biocbuild/bbs-2.4-bioc/R/lib -lR
** R
** inst
** preparing package for lazy loading
Loading required package: Biobase
Welcome to Bioconductor
  Vignettes contain introductory material. To view, type
  'openVignette()'. To cite Bioconductor, see
  'citation("Biobase")' and for packages 'citation(pkgname)'.
Loading required package: rrcov
Loading required package: robustbase
Loading required package: pcaPP
Loading required package: mvtnorm
pcaPP 0.1-1 loaded
Scalable Robust Estimators with High Breakdown Point (version 1.0-00)
Attaching package: 'flowCore'
	The following object(s) are masked from package:stats :
	 alias,
	 filter 
KernSmooth 2.23 loaded
Copyright M. P. Wand 1997-2009
** help
*** installing help indices
 >>> Building/Updating help pages for package 'flowViz'
     Formats: text html latex example 
  addName-methods                   text    html    latex
  contour-methods                   text    html    latex   example
  densityplot                       text    html    latex   example
  ecdfplot                          text    html    latex   example
  flowPlot                          text    html    latex   example
  flowViz-package                   text    html    latex   example
  flowViz.par.get                   text    html    latex   example
  hexbin                            text    html    latex   example
  latticeMethods-flowSet            text    html    latex   example
  lines-methods                     text    html    latex
  lpoints-methods                   text    html    latex
  lpolygon-methods                  text    html    latex
  plot-methods                      text    html    latex
  points-methods                    text    html    latex
  polygon-methods                   text    html    latex
  splom                             text    html    latex   example
  timeLinePlot-methods              text    html    latex   example
  xyplot                            text    html    latex   example
** building package indices ...
* DONE (flowViz)
* creating vignettes ... OK
* cleaning src
* removing junk files
* checking for LF line-endings in source and make files
* checking for empty or unneeded directories
* building 'flowViz_1.8.0.tar.gz'