| flowClust 2.2.0 Raphael Gottardo
 
 | Bioconductor Changelog |  | Snapshot Date: 2009-10-20 11:27:33 -0700 (Tue, 20 Oct 2009) |  | URL: https://hedgehog.fhcrc.org/bioconductor/branches/RELEASE_2_4/madman/Rpacks/flowClust |  | Last Changed Rev: 41695 / Revision: 42512 |  | Last Changed Date: 2009-09-15 08:18:22 -0700 (Tue, 15 Sep 2009) | 
 | wilson1 | Linux (openSUSE 11.1) / x86_64 | [ OK ] | OK |  | 
| liverpool | Windows Server 2003 R2 (32-bit) / x64 | OK | OK | OK | 
| pitt | Mac OS X Tiger (10.4.11) / i386 | OK | OK | OK | 
| pelham | Mac OS X Leopard (10.5.8) / i386 | OK | OK | OK | 
* checking for file 'flowClust/DESCRIPTION' ... OK
* preparing 'flowClust':
* checking DESCRIPTION meta-information ... OK
* cleaning src
* running cleanup
* installing the package to re-build vignettes
* Installing *source* package 'flowClust' ...
checking for pkg-config... /usr/bin/pkg-config
checking pkg-config is at least version 0.9.0... yes
checking for GSL... yes
configure: creating ./config.status
config.status: creating src/Makevars
** libs
gcc -std=gnu99 -I/home/biocbuild/bbs-2.4-bioc/R/include  -I/usr/local/include    -fpic  -g -O2 -Wall -c BoxCox.c -o BoxCox.o
gcc -std=gnu99 -I/home/biocbuild/bbs-2.4-bioc/R/include  -I/usr/local/include    -fpic  -g -O2 -Wall -c Nu.c -o Nu.o
gcc -std=gnu99 -I/home/biocbuild/bbs-2.4-bioc/R/include  -I/usr/local/include    -fpic  -g -O2 -Wall -c flowClust.c -o flowClust.o
flowClust.c: In function 'flowClust':
flowClust.c:49: warning: 's' may be used uninitialized in this function
flowClust.c:49: warning: 's2' may be used uninitialized in this function
flowClust.c:51: warning: 's3' may be used uninitialized in this function
gcc -std=gnu99 -I/home/biocbuild/bbs-2.4-bioc/R/include  -I/usr/local/include    -fpic  -g -O2 -Wall -c flowClustGaussian.c -o flowClustGaussian.o
flowClustGaussian.c: In function 'flowClustGaussian':
flowClustGaussian.c:34: warning: 's' may be used uninitialized in this function
gcc -std=gnu99 -I/home/biocbuild/bbs-2.4-bioc/R/include  -I/usr/local/include    -fpic  -g -O2 -Wall -c ranMVNT.c -o ranMVNT.o
gcc -std=gnu99 -shared -L/usr/local/lib64 -o flowClust.so BoxCox.o Nu.o flowClust.o flowClustGaussian.o ranMVNT.o -lgsl -lgslcblas -lm -L/home/biocbuild/bbs-2.4-bioc/R/lib -lR
** R
** data
** inst
** preparing package for lazy loading
by using mclust, you accept the license agreement in the LICENSE file
and at http://www.stat.washington.edu/mclust/license.txt
Welcome to Bioconductor
  Vignettes contain introductory material. To view, type
  'openVignette()'. To cite Bioconductor, see
  'citation("Biobase")' and for packages 'citation(pkgname)'.
Loading required package: rrcov
Loading required package: robustbase
Loading required package: pcaPP
Loading required package: mvtnorm
pcaPP 0.1-1 loaded
Scalable Robust Estimators with High Breakdown Point (version 1.0-00)
Attaching package: 'flowCore'
	The following object(s) are masked from package:stats :
	 alias,
	 filter 
Warning in .findOrCopyClass(class2, classDef2, where, "subclass") :
  Class "Ulist" is defined (with package slot "rrcov") but no metadata object found to revise subclass information---not exported?  Making a copy in package "flowClust"
Warning in .findOrCopyClass(class2, classDef2, where, "subclass") :
  Class "Uvector" is defined (with package slot "rrcov") but no metadata object found to revise subclass information---not exported?  Making a copy in package "flowClust"
** help
*** installing help indices
 >>> Building/Updating help pages for package 'flowClust'
     Formats: text html latex example 
  Map                               text    html    latex
  SimulateMixture                   text    html    latex   example
  Subset                            text    html    latex
  box                               text    html    latex   example
  density                           text    html    latex
  dmvt                              text    html    latex
  dmvtmix                           text    html    latex
  flowClust-internal                text    html    latex
  flowClust-package                 text    html    latex
  flowClust                         text    html    latex   example
  hist                              text    html    latex
  miscellaneous                     text    html    latex
  plot.flowClust                    text    html    latex
  plot.flowCore                     text    html    latex
  plot.flowDens                     text    html    latex
  rbox                              text    html    latex
  rituximab                         text    html    latex
  ruleOutliers                      text    html    latex
  show.flowClust                    text    html    latex
  show.tmixFilter                   text    html    latex
  split                             text    html    latex
  summary                           text    html    latex
  tmixFilter                        text    html    latex   example
** building package indices ...
* DONE (flowClust)
* creating vignettes ... OK
* cleaning src
make: Nothing to be done for `clean'.
* running cleanup
* removing junk files
* checking for LF line-endings in source and make files
* checking for empty or unneeded directories
* building 'flowClust_2.2.0.tar.gz'