edgeR 1.2.4 Mark Robinson , Davis McCarthy
 | Bioconductor Changelog |  | Snapshot Date: 2009-10-20 11:27:33 -0700 (Tue, 20 Oct 2009) |  | URL: https://hedgehog.fhcrc.org/bioconductor/branches/RELEASE_2_4/madman/Rpacks/edgeR |  | Last Changed Rev: 40848 / Revision: 42512 |  | Last Changed Date: 2009-07-26 06:43:33 -0700 (Sun, 26 Jul 2009) |  
  | wilson1  | Linux (openSUSE 11.1) / x86_64  |  OK  |  OK  |  | 
| liverpool  | Windows Server 2003 R2 (32-bit) / x64  |  OK  |  OK  | [ OK ] | 
| pitt  | Mac OS X Tiger (10.4.11) / i386  |  OK  |  OK  |  OK  | 
| pelham  | Mac OS X Leopard (10.5.8) / i386  |  OK  |  OK  |  OK  | 
* Installing *source* package 'edgeR' ...
  Using auto-selected zip options '--use-zip-data --use-zip-help'
** R
** data
** inst
** preparing package for lazy loading
Welcome to Bioconductor
  Vignettes contain introductory material. To view, type
  'openVignette()'. To cite Bioconductor, see
  'citation("Biobase")' and for packages 'citation(pkgname)'.
** help
*** installing help indices
 >>> Building/Updating help pages for package 'edgeR'
     Formats: text html latex example chm 
  DGEList                           text    html    latex           chm
  EBList                            text    html    latex           chm
  Tu102                             text    html    latex           chm
  alpha.approxeb                    text    html    latex   example chm
  approx.expected.info              text    html    latex   example chm
  condLogLikDerDelta                text    html    latex   example chm
  condLogLikDerSize                 text    html    latex   example chm
  deDGE                             text    html    latex   example chm
  deDGEList                         text    html    latex           chm
  estimatePs                        text    html    latex   example chm
  exactTestNB                       text    html    latex   example chm
  findMaxD2                         text    html    latex   example chm
  getData                           text    html    latex   example chm
  interpolateHelper                 text    html    latex   example chm
  logLikDerP                        text    html    latex   example chm
  plotMA                            text    html    latex   example chm
  quantileAdjust                    text    html    latex   example chm
  readDGE                           text    html    latex   example chm
  splitIntoGroups                   text    html    latex   example chm
  splitIntoGroupsPseudo             text    html    latex   example chm
  tau2.0.objective                  text    html    latex   example chm
  topTags                           text    html    latex   example chm
Microsoft HTML Help Compiler 4.74.8702
Compiling e:\biocbld\bbs-2.4-bioc\tmpdir\RtmpB2IGHj\R.INSTALL678418be\edgeR\chm\edgeR.chm
Compile time: 0 minutes, 0 seconds
23	Topics
51	Local links
0	Internet links
1	Graphic
Created e:\biocbld\bbs-2.4-bioc\tmpdir\RtmpB2IGHj\R.INSTALL678418be\edgeR\chm\edgeR.chm, 35,292 bytes
Compression decreased file by 26,492 bytes.
** building package indices ...
** MD5 sums
packaged installation of 'edgeR' as edgeR_1.2.4.zip
* DONE (edgeR)