| ctc 1.18.0 Antoine Lucas
 
 | Bioconductor Changelog |  | Snapshot Date: 2009-10-20 11:27:33 -0700 (Tue, 20 Oct 2009) |  | URL: https://hedgehog.fhcrc.org/bioconductor/branches/RELEASE_2_4/madman/Rpacks/ctc |  | Last Changed Rev: 39013 / Revision: 42512 |  | Last Changed Date: 2009-04-20 16:24:12 -0700 (Mon, 20 Apr 2009) | 
 | wilson1 | Linux (openSUSE 11.1) / x86_64 | OK | OK |  | 
| liverpool | Windows Server 2003 R2 (32-bit) / x64 | OK | OK | OK | 
| pitt | Mac OS X Tiger (10.4.11) / i386 | OK | OK | OK | 
| pelham | Mac OS X Leopard (10.5.8) / i386 | [ OK ] | OK | OK | 
* checking for file 'ctc/DESCRIPTION' ... OK
* preparing 'ctc':
* checking DESCRIPTION meta-information ... OK
* installing the package to re-build vignettes
* Installing *source* package ‘ctc’ ...
** R
** demo
** exec
** inst
** preparing package for lazy loading
Loading required package: Biobase
Welcome to Bioconductor
  Vignettes contain introductory material. To view, type
  'openVignette()'. To cite Bioconductor, see
  'citation("Biobase")' and for packages 'citation(pkgname)'.
** help
*** installing help indices
 >>> Building/Updating help pages for package 'ctc'
     Formats: text html latex example 
  hc2Newick                         text    html    latex   example
  hclust2treeview                   text    html    latex   example
  r2cluster                         text    html    latex   example
  r2gtr                             text    html    latex   example
  r2xcluster                        text    html    latex   example
  read.eisen                        text    html    latex
  xcluster                          text    html    latex   example
  xcluster2r                        text    html    latex   example
** building package indices ...
* DONE (ctc)
* creating vignettes ... OK
* removing junk files
* checking for LF line-endings in source and make files
* checking for empty or unneeded directories
* building 'ctc_1.18.0.tar.gz'