| beadarraySNP 1.10.0 Jan Oosting
 
 | Bioconductor Changelog |  | Snapshot Date: 2009-10-20 11:27:33 -0700 (Tue, 20 Oct 2009) |  | URL: https://hedgehog.fhcrc.org/bioconductor/branches/RELEASE_2_4/madman/Rpacks/beadarraySNP |  | Last Changed Rev: 39013 / Revision: 42512 |  | Last Changed Date: 2009-04-20 16:24:12 -0700 (Mon, 20 Apr 2009) | 
 | wilson1 | Linux (openSUSE 11.1) / x86_64 | OK | OK |  | 
| liverpool | Windows Server 2003 R2 (32-bit) / x64 | OK | OK | OK | 
| pitt | Mac OS X Tiger (10.4.11) / i386 | OK | [ OK ] | OK | 
| pelham | Mac OS X Leopard (10.5.8) / i386 | OK | OK | OK | 
* checking for working pdflatex ... OK
* using log directory '/Users/biocbuild/bbs-2.4-bioc/meat/beadarraySNP.Rcheck'
* using R version 2.9.2 Patched (2009-08-24 r49419)
* using session charset: UTF-8
* using option '--no-vignettes'
* checking for file 'beadarraySNP/DESCRIPTION' ... OK
* checking extension type ... Package
* this is package 'beadarraySNP' version '1.10.0'
* checking package name space information ... OK
* checking package dependencies ... OK
* checking if this is a source package ... OK
* checking whether package 'beadarraySNP' can be installed ... OK
* checking package directory ... OK
* checking for portable file names ... OK
* checking for sufficient/correct file permissions ... OK
* checking DESCRIPTION meta-information ... OK
* checking top-level files ... OK
* checking index information ... OK
* checking package subdirectories ... OK
* checking R files for non-ASCII characters ... OK
* checking R files for syntax errors ... OK
* checking whether the package can be loaded ... OK
* checking whether the package can be loaded with stated dependencies ... OK
* checking whether the name space can be loaded with stated dependencies ... OK
* checking for unstated dependencies in R code ... OK
* checking S3 generic/method consistency ... OK
* checking replacement functions ... OK
* checking foreign function calls ... OK
* checking R code for possible problems ... OK
* checking Rd files ... OK
* checking Rd files against version 2 parser ... OK
* checking Rd cross-references ... OK
* checking for missing documentation entries ... OK
* checking for code/documentation mismatches ... OK
* checking Rd \usage sections ... OK
* checking data for non-ASCII characters ... OK
* checking examples ... OK
* checking package vignettes in 'inst/doc' ... SKIPPED
* checking PDF version of manual ... OK
 
* Installing *source* package ‘beadarraySNP’ ...
** R
** data
** inst
** preparing package for lazy loading
Welcome to Bioconductor
  Vignettes contain introductory material. To view, type
  'openVignette()'. To cite Bioconductor, see
  'citation("Biobase")' and for packages 'citation(pkgname)'.
Loading required package: quantreg
Loading required package: SparseM
Package SparseM (0.80) loaded.  
	   To cite, see citation("SparseM")
Attaching package: 'SparseM'
	The following object(s) are masked from package:stats :
	 model.response 
	The following object(s) are masked from package:base :
	 backsolve,
	 chol 
Attaching package: 'quantreg'
	The following object(s) are masked from package:utils :
	 vignette 
Loading required package: lodplot
Loading required package: grid
** help
*** installing help indices
 >>> Building/Updating help pages for package 'beadarraySNP'
     Formats: text html latex example 
  BeadstudioQC                      text    html    latex
  CopynumberConversion              text    html    latex
  Datasets                          text    html    latex
  GenomicReports                    text    html    latex   example
  GetBeadStudioSampleNames          text    html    latex
  PolarTransforms                   text    html    latex   example
  QCIllumina-class                  text    html    latex
  Sample_Map2Samplesheet            text    html    latex
  alterCN                           text    html    latex
  arrayType                         text    html    latex
  backgroundCorrect.SNP             text    html    latex   example
  backgroundEstimate                text    html    latex
  calculateLOH                      text    html    latex
  calculateQCarray                  text    html    latex   example
  class.SnpSetIllumina              text    html    latex
  compareGenotypes                  text    html    latex   example
  createCNSummary                   text    html    latex
Note: removing empty section \examples in file 'dist.GT.Rd'
  dist.GT                           text    html    latex
  getDNAindex                       text    html    latex
  heterozygosity                    text    html    latex   example
  heterozygousSNPs                  text    html    latex   example
  interactiveCNselect               text    html    latex
  normalizeBetweenAlleles.SNP       text    html    latex   example
  normalizeBetweenSubsamples.SNP    text    html    latex   example
  normalizeLoci.SNP                 text    html    latex   example
  normalizeWithinArrays.SNP         text    html    latex   example
  pdfChromosomesSmoothCopyNumber    text    html    latex   example
  pdfQC                             text    html    latex
  plotGoldenGate4OPA                text    html    latex
  plotQC                            text    html    latex   example
  read.SnpSetIllumina               text    html    latex   example
  removeLowQualityProbes            text    html    latex
  removeLowQualitySamples           text    html    latex   example
  renameOPA                         text    html    latex
  reportGenotypeSegmentation        text    html    latex
  reportSamplePanelQC-methods       text    html    latex   example
  segmentate                        text    html    latex
  setRealCN                         text    html    latex
  smoothed.intensity                text    html    latex
  standardNormalization             text    html    latex   example
** building package indices ...
* DONE (beadarraySNP)