| annotationTools 1.14.0 Alexandre Kuhn
 
 | Bioconductor Changelog |  | Snapshot Date: 2009-10-20 11:27:33 -0700 (Tue, 20 Oct 2009) |  | URL: https://hedgehog.fhcrc.org/bioconductor/branches/RELEASE_2_4/madman/Rpacks/annotationTools |  | Last Changed Rev: 39013 / Revision: 42512 |  | Last Changed Date: 2009-04-20 16:24:12 -0700 (Mon, 20 Apr 2009) | 
 | wilson1 | Linux (openSUSE 11.1) / x86_64 | [ OK ] | OK |  | 
| liverpool | Windows Server 2003 R2 (32-bit) / x64 | OK | OK | OK | 
| pitt | Mac OS X Tiger (10.4.11) / i386 | OK | OK | OK | 
| pelham | Mac OS X Leopard (10.5.8) / i386 | OK | OK | OK | 
* checking for file 'annotationTools/DESCRIPTION' ... OK
* preparing 'annotationTools':
* checking DESCRIPTION meta-information ... OK
* installing the package to re-build vignettes
* Installing *source* package 'annotationTools' ...
** R
** data
** inst
** preparing package for lazy loading
Welcome to Bioconductor
  Vignettes contain introductory material. To view, type
  'openVignette()'. To cite Bioconductor, see
  'citation("Biobase")' and for packages 'citation(pkgname)'.
** help
*** installing help indices
 >>> Building/Updating help pages for package 'annotationTools'
     Formats: text html latex example 
  HG-U133_Plus_2_annot_part         text    html    latex
  HG-U133_Plus_2_ortholog_part      text    html    latex
  Mouse430_2_annot_part             text    html    latex
  annot_HGU133A                     text    html    latex
Note: removing empty section \references in file 'compactList.Rd'
  compactList                       text    html    latex   example
Note: removing empty section \references in file 'getANNOTATION.Rd'
  getANNOTATION                     text    html    latex   example
Note: removing empty section \references in file 'getGENEID.Rd'
  getGENEID                         text    html    latex   example
Note: removing empty section \references in file 'getGENEONTOLOGY.Rd'
  getGENEONTOLOGY                   text    html    latex   example
Note: removing empty section \references in file 'getGENESYMBOL.Rd'
  getGENESYMBOL                     text    html    latex   example
Note: removing empty section \references in file 'getGENETITLE.Rd'
  getGENETITLE                      text    html    latex   example
Note: removing empty section \references in file 'getHOMOLOG.Rd'
  getHOMOLOG                        text    html    latex   example
Note: removing empty section \references in file 'getMULTIANNOTATION.Rd'
  getMULTIANNOTATION                text    html    latex   example
Note: removing empty section \references in file 'getOrthologousProbesets.Rd'
  getOrthologousProbesets           text    html    latex   example
Note: removing empty section \references in file 'getPROBESET.Rd'
  getPROBESET                       text    html    latex   example
  homologene_part                   text    html    latex
Note: removing empty section \references in file 'listToCharacterVector.Rd'
  listToCharacterVector             text    html    latex   example
  ortho                             text    html    latex
Note: removing empty section \references in file 'ps2ps.Rd'
  ps2ps                             text    html    latex   example
  table_human                       text    html    latex
  table_mouse                       text    html    latex
** building package indices ...
* DONE (annotationTools)
* creating vignettes ... OK
* removing junk files
* checking for LF line-endings in source and make files
* checking for empty or unneeded directories
* building 'annotationTools_1.14.0.tar.gz'