affyio 1.12.0 Benjamin Milo Bolstad
| Bioconductor Changelog | | Snapshot Date: 2009-10-20 11:27:33 -0700 (Tue, 20 Oct 2009) | | URL: https://hedgehog.fhcrc.org/bioconductor/branches/RELEASE_2_4/madman/Rpacks/affyio | | Last Changed Rev: 39013 / Revision: 42512 | | Last Changed Date: 2009-04-20 16:24:12 -0700 (Mon, 20 Apr 2009) |
| wilson1 | Linux (openSUSE 11.1) / x86_64 | [ OK ] | OK | |
| liverpool | Windows Server 2003 R2 (32-bit) / x64 | OK | OK | OK |
| pitt | Mac OS X Tiger (10.4.11) / i386 | OK | OK | OK |
| pelham | Mac OS X Leopard (10.5.8) / i386 | OK | OK | OK |