| TypeInfo 1.10.0 Duncan Temple Lang
 
 | Bioconductor Changelog |  | Snapshot Date: 2009-10-20 11:27:33 -0700 (Tue, 20 Oct 2009) |  | URL: https://hedgehog.fhcrc.org/bioconductor/branches/RELEASE_2_4/madman/Rpacks/TypeInfo |  | Last Changed Rev: 39013 / Revision: 42512 |  | Last Changed Date: 2009-04-20 16:24:12 -0700 (Mon, 20 Apr 2009) | 
 | wilson1 | Linux (openSUSE 11.1) / x86_64 | OK | OK |  | 
| liverpool | Windows Server 2003 R2 (32-bit) / x64 | OK | OK | [ OK ] | 
| pitt | Mac OS X Tiger (10.4.11) / i386 | OK | OK | OK | 
| pelham | Mac OS X Leopard (10.5.8) / i386 | OK | OK | OK | 
* Installing *source* package 'TypeInfo' ...
  Using auto-selected zip options ''
** R
** inst
** preparing package for lazy loading
** help
*** installing help indices
 >>> Building/Updating help pages for package 'TypeInfo'
     Formats: text html latex example chm 
  ClassNameOrExpression-class       text    html    latex           chm
  DynamicTypeTest-class             text    html    latex   example chm
  IndependentTypeSpecification-clas text    html    latex   example chm
  IndependentTypeSpecification      text    html    latex   example chm
  NamedTypeTest-class               text    html    latex   example chm
  ReturnTypeSpecification           text    html    latex   example chm
  SimultaneousTypeSpecification     text    html    latex   example chm
  TypedSignature-class              text    html    latex           chm
  TypedSignature                    text    html    latex   example chm
  checkArgs                         text    html    latex   example chm
  checkReturnValue                  text    html    latex           chm
  hasParameterType                  text    html    latex   example chm
  paramNames                        text    html    latex           chm
  rewriteTypeCheck                  text    html    latex   example chm
  showTypeInfo                      text    html    latex   example chm
  typeInfo                          text    html    latex           chm
Microsoft HTML Help Compiler 4.74.8702
Compiling e:\biocbld\bbs-2.4-bioc\tmpdir\RtmpzU6jNn\R.INSTALL678418be\TypeInfo\chm\TypeInfo.chm
Compile time: 0 minutes, 2 seconds
17	Topics
164	Local links
1	Internet link
1	Graphic
Created e:\biocbld\bbs-2.4-bioc\tmpdir\RtmpzU6jNn\R.INSTALL678418be\TypeInfo\chm\TypeInfo.chm, 41,141 bytes
Compression decreased file by 41,898 bytes.
** building package indices ...
** MD5 sums
packaged installation of 'TypeInfo' as TypeInfo_1.10.0.zip
* DONE (TypeInfo)