Rintact 1.6.0 Tony Chiang
 | Bioconductor Changelog |  | Snapshot Date: 2009-10-20 11:27:33 -0700 (Tue, 20 Oct 2009) |  | URL: https://hedgehog.fhcrc.org/bioconductor/branches/RELEASE_2_4/madman/Rpacks/Rintact |  | Last Changed Rev: 39013 / Revision: 42512 |  | Last Changed Date: 2009-04-20 16:24:12 -0700 (Mon, 20 Apr 2009) |  
  | wilson1  | Linux (openSUSE 11.1) / x86_64  |  OK  | [ OK ] |  | 
| liverpool  | Windows Server 2003 R2 (32-bit) / x64  |  OK  |  OK  |  OK  | 
| pitt  | Mac OS X Tiger (10.4.11) / i386  |  OK  |  OK  |  OK  | 
| pelham  | Mac OS X Leopard (10.5.8) / i386  |  OK  |  OK  |  OK  | 
* checking for working pdflatex ... OK
* using log directory '/loc/home/biocbuild/bbs-2.4-bioc/meat/Rintact.Rcheck'
* using R version 2.9.2 (2009-08-24)
* using session charset: ISO8859-1
* using option '--no-vignettes'
* checking for file 'Rintact/DESCRIPTION' ... OK
* this is package 'Rintact' version '1.6.0'
* checking package name space information ... OK
* checking package dependencies ... OK
* checking if this is a source package ... OK
* checking whether package 'Rintact' can be installed ... OK
* checking package directory ... OK
* checking for portable file names ... OK
* checking for sufficient/correct file permissions ... OK
* checking DESCRIPTION meta-information ... OK
* checking top-level files ... OK
* checking index information ... OK
* checking package subdirectories ... OK
* checking R files for non-ASCII characters ... OK
* checking R files for syntax errors ... OK
* checking whether the package can be loaded ... OK
* checking whether the package can be loaded with stated dependencies ... OK
* checking whether the name space can be loaded with stated dependencies ... OK
* checking for unstated dependencies in R code ... OK
* checking S3 generic/method consistency ... OK
* checking replacement functions ... OK
* checking foreign function calls ... OK
* checking R code for possible problems ... NOTE
eListHandler : startElement: no visible binding for '<<-' assignment to
  'curEL'
eListHandler : startElement: no visible binding for global variable
  'curEL'
eListHandler : text: no visible binding for global variable 'curEL'
* checking Rd files ... OK
* checking Rd files against version 2 parser ... OK
* checking Rd cross-references ... OK
* checking for missing documentation entries ... OK
* checking for code/documentation mismatches ... OK
* checking Rd \usage sections ... OK
* checking examples ... OK
* checking package vignettes in 'inst/doc' ... SKIPPED
* checking PDF version of manual ... OK
 
* Installing *source* package 'Rintact' ...
** R
** inst
** preparing package for lazy loading
Warning in namespaceImportFrom(self, asNamespace(ns)) :
  replacing previous import: addNode
** help
*** installing help indices
 >>> Building/Updating help pages for package 'Rintact'
     Formats: text html latex example 
  bait                              text    html    latex   example
  complexEntry                      text    html    latex
  complexes                         text    html    latex   example
  eListHandler                      text    html    latex   example
  intactComplex                     text    html    latex
  intactGraph                       text    html    latex
  intactHyperGraph                  text    html    latex
  intactInteraction                 text    html    latex
Note: removing empty section \examples in file 'intactXML2Graph.Rd'
  intactXML2Graph                   text    html    latex
  interactionEntry                  text    html    latex
  interactions                      text    html    latex   example
  interactors                       text    html    latex   example
Note: removing empty section \references in file 'list2Matrix.Rd'
  list2Matrix                       text    html    latex   example
  organismName                      text    html    latex   example
  prey                              text    html    latex   example
  psi25interaction                  text    html    latex   example
  releaseDate                       text    html    latex   example
Note: removing empty section \examples in file 'separateXMLDataByExpt.Rd'
  separateXMLDataByExpt             text    html    latex
  taxId                             text    html    latex   example
  translateIntactID                 text    html    latex   example
  translateNodeID                   text    html    latex   example
** building package indices ...
* DONE (Rintact)