RefPlus 1.14.0 Kai-Ming Chang
 | Bioconductor Changelog |  | Snapshot Date: 2009-10-20 11:27:33 -0700 (Tue, 20 Oct 2009) |  | URL: https://hedgehog.fhcrc.org/bioconductor/branches/RELEASE_2_4/madman/Rpacks/RefPlus |  | Last Changed Rev: 39013 / Revision: 42512 |  | Last Changed Date: 2009-04-20 16:24:12 -0700 (Mon, 20 Apr 2009) |  
  | wilson1  | Linux (openSUSE 11.1) / x86_64  | [ OK ] |  OK  |  | 
| liverpool  | Windows Server 2003 R2 (32-bit) / x64  |  OK  |  OK  |  OK  | 
| pitt  | Mac OS X Tiger (10.4.11) / i386  |  OK  |  OK  |  OK  | 
| pelham  | Mac OS X Leopard (10.5.8) / i386  |  OK  |  OK  |  OK  | 
* checking for file 'RefPlus/DESCRIPTION' ... OK
* preparing 'RefPlus':
* checking DESCRIPTION meta-information ... OK
* installing the package to re-build vignettes
* Installing *source* package 'RefPlus' ...
** R
** inst
** preparing package for lazy loading
Welcome to Bioconductor
  Vignettes contain introductory material. To view, type
  'openVignette()'. To cite Bioconductor, see
  'citation("Biobase")' and for packages 'citation(pkgname)'.
Loading required package: gcrma
Loading required package: Biostrings
Loading required package: IRanges
Attaching package: 'IRanges'
	The following object(s) are masked from package:base :
	 cbind,
	 duplicated,
	 order,
	 pmax,
	 pmax.int,
	 pmin,
	 pmin.int,
	 rank,
	 rbind,
	 rep.int,
	 sapply,
	 sort,
	 table,
	 unique 
Loading required package: preprocessCore
Attaching package: 'affyPLM'
	The following object(s) are masked from package:stats :
	 resid,
	 residuals,
	 weights 
** help
*** installing help indices
 >>> Building/Updating help pages for package 'RefPlus'
     Formats: text html latex example 
  RefPlus-package                   text    html    latex   example
Note: removing empty section \references in file 'colMedians.Rd'
  colMedians                        text    html    latex   example
  normalize.quantiles2              text    html    latex   example
  rma.para                          text    html    latex   example
  rmaplus                           text    html    latex   example
Note: removing empty section \examples in file 'rmaref.predict.Rd'
  rmaref.predict                    text    html    latex
** building package indices ...
* DONE (RefPlus)
* creating vignettes ... OK
* removing junk files
* checking for LF line-endings in source and make files
* checking for empty or unneeded directories
* building 'RefPlus_1.14.0.tar.gz'