| RankProd 2.16.0 Fangxin Hong
 
 | Bioconductor Changelog |  | Snapshot Date: 2009-10-20 11:27:33 -0700 (Tue, 20 Oct 2009) |  | URL: https://hedgehog.fhcrc.org/bioconductor/branches/RELEASE_2_4/madman/Rpacks/RankProd |  | Last Changed Rev: 39013 / Revision: 42512 |  | Last Changed Date: 2009-04-20 16:24:12 -0700 (Mon, 20 Apr 2009) | 
 | wilson1 | Linux (openSUSE 11.1) / x86_64 | OK | OK |  | 
| liverpool | Windows Server 2003 R2 (32-bit) / x64 | OK | OK | [ OK ] | 
| pitt | Mac OS X Tiger (10.4.11) / i386 | OK | OK | OK | 
| pelham | Mac OS X Leopard (10.5.8) / i386 | OK | OK | OK | 
* Installing *source* package 'RankProd' ...
  Using auto-selected zip options '--use-zip-data '
** R
** data
** inst
** preparing package for lazy loading
** help
*** installing help indices
 >>> Building/Updating help pages for package 'RankProd'
     Formats: text html latex example chm 
  RP                                text    html    latex   example chm
  RPadvance                         text    html    latex   example chm
  RSadvance                         text    html    latex   example chm
  RankProd-internal                 text    html    latex           chm
  arab                              text    html    latex           chm
  golub                             text    html    latex           chm
  lymphoma                          text    html    latex           chm
  plotGene                          text    html    latex   example chm
  plotRP                            text    html    latex   example chm
  topGene                           text    html    latex   example chm
Microsoft HTML Help Compiler 4.74.8702
Compiling e:\biocbld\bbs-2.4-bioc\tmpdir\RtmpWCbtzu\R.INSTALL678418be\RankProd\chm\RankProd.chm
Compile time: 0 minutes, 2 seconds
11	Topics
47	Local links
1	Internet link
1	Graphic
Created e:\biocbld\bbs-2.4-bioc\tmpdir\RtmpWCbtzu\R.INSTALL678418be\RankProd\chm\RankProd.chm, 34,115 bytes
Compression decreased file by 15,428 bytes.
** building package indices ...
** MD5 sums
packaged installation of 'RankProd' as RankProd_2.16.0.zip
* DONE (RankProd)