ROC 1.18.0 Vince Carey
 | Bioconductor Changelog |  | Snapshot Date: 2009-10-20 11:27:33 -0700 (Tue, 20 Oct 2009) |  | URL: https://hedgehog.fhcrc.org/bioconductor/branches/RELEASE_2_4/madman/Rpacks/ROC |  | Last Changed Rev: 39013 / Revision: 42512 |  | Last Changed Date: 2009-04-20 16:24:12 -0700 (Mon, 20 Apr 2009) |  
  | wilson1  | Linux (openSUSE 11.1) / x86_64  |  OK  |  OK  |  | 
| liverpool  | Windows Server 2003 R2 (32-bit) / x64  |  OK  |  OK  |  OK  | 
| pitt  | Mac OS X Tiger (10.4.11) / i386  |  OK  |  OK  |  OK  | 
| pelham  | Mac OS X Leopard (10.5.8) / i386  | [ OK ] |  OK  |  OK  | 
* checking for file 'ROC/DESCRIPTION' ... OK
* preparing 'ROC':
* checking DESCRIPTION meta-information ... OK
* cleaning src
* installing the package to re-build vignettes
* Installing *source* package ‘ROC’ ...
** libs
** arch - i386
g++-4.0 -arch i386 -I/Library/Frameworks/R.framework/Versions/2.9/Resources/include -I/Library/Frameworks/R.framework/Versions/2.9/Resources/include/i386  -I/usr/local/include    -fPIC  -g -O2 -Wall -fasm-blocks -c ROC.cc -o ROC.o
g++-4.2 -arch i386 -dynamiclib -Wl,-headerpad_max_install_names -undefined dynamic_lookup -single_module -multiply_defined suppress -L/usr/local/lib -o ROC.so ROC.o -F/Library/Frameworks/R.framework/.. -framework R -Wl,-framework -Wl,CoreFoundation
** arch - ppc
g++-4.0 -arch ppc -I/Library/Frameworks/R.framework/Versions/2.9/Resources/include -I/Library/Frameworks/R.framework/Versions/2.9/Resources/include/ppc  -I/usr/local/include    -fPIC  -g -O2 -Wall -fasm-blocks -c ROC.cc -o ROC.o
g++-4.2 -arch ppc -dynamiclib -Wl,-headerpad_max_install_names -undefined dynamic_lookup -single_module -multiply_defined suppress -L/usr/local/lib -o ROC.so ROC.o -F/Library/Frameworks/R.framework/.. -framework R -Wl,-framework -Wl,CoreFoundation
** arch - ppc64
g++-4.0 -arch ppc64 -I/Library/Frameworks/R.framework/Versions/2.9/Resources/include -I/Library/Frameworks/R.framework/Versions/2.9/Resources/include/ppc64  -I/usr/local/include    -fPIC  -g -O2 -Wall -fasm-blocks -c ROC.cc -o ROC.o
g++-4.2 -arch ppc64 -dynamiclib -Wl,-headerpad_max_install_names -undefined dynamic_lookup -single_module -multiply_defined suppress -L/usr/local/lib -o ROC.so ROC.o -F/Library/Frameworks/R.framework/.. -framework R -Wl,-framework -Wl,CoreFoundation
** arch - x86_64
g++-4.0 -arch x86_64 -I/Library/Frameworks/R.framework/Versions/2.9/Resources/include -I/Library/Frameworks/R.framework/Versions/2.9/Resources/include/x86_64  -I/usr/local/include    -fPIC  -g -O2 -Wall -fasm-blocks -c ROC.cc -o ROC.o
g++-4.2 -arch x86_64 -dynamiclib -Wl,-headerpad_max_install_names -undefined dynamic_lookup -single_module -multiply_defined suppress -L/usr/local/lib -o ROC.so ROC.o -F/Library/Frameworks/R.framework/.. -framework R -Wl,-framework -Wl,CoreFoundation
** R
** inst
** preparing package for lazy loading
** help
*** installing help indices
 >>> Building/Updating help pages for package 'ROC'
     Formats: text html latex example 
Note: removing empty section \value in file 'AUC.Rd'
Note: removing empty section \note in file 'AUC.Rd'
  AUC                               text    html    latex   example
  plot-methods                      text    html    latex   example
  rocc-class                        text    html    latex   example
Note: removing empty section \note in file 'rocdemo.sca.Rd'
Note: removing empty section \references in file 'rocdemo.sca.Rd'
  rocdemo.sca                       text    html    latex   example
Note: removing empty section \author in file 'trapezint.Rd'
Note: removing empty section \note in file 'trapezint.Rd'
Note: removing empty section \references in file 'trapezint.Rd'
Note: removing empty section \seealso in file 'trapezint.Rd'
  trapezint                         text    html    latex   example
** building package indices ...
* DONE (ROC)
* creating vignettes ... OK
* cleaning src
* removing junk files
* checking for LF line-endings in source and make files
* checking for empty or unneeded directories
* building 'ROC_1.18.0.tar.gz'