| MassSpecWavelet 1.10.0 Pan Du
 
 | Bioconductor Changelog |  | Snapshot Date: 2009-10-20 11:27:33 -0700 (Tue, 20 Oct 2009) |  | URL: https://hedgehog.fhcrc.org/bioconductor/branches/RELEASE_2_4/madman/Rpacks/MassSpecWavelet |  | Last Changed Rev: 39013 / Revision: 42512 |  | Last Changed Date: 2009-04-20 16:24:12 -0700 (Mon, 20 Apr 2009) | 
 | wilson1 | Linux (openSUSE 11.1) / x86_64 | OK | OK |  | 
| liverpool | Windows Server 2003 R2 (32-bit) / x64 | OK | OK | OK | 
| pitt | Mac OS X Tiger (10.4.11) / i386 | [ OK ] | OK | OK | 
| pelham | Mac OS X Leopard (10.5.8) / i386 | OK | OK | OK | 
* checking for file 'MassSpecWavelet/DESCRIPTION' ... OK
* preparing 'MassSpecWavelet':
* checking DESCRIPTION meta-information ... OK
* cleaning src
* installing the package to re-build vignettes
* Installing *source* package ‘MassSpecWavelet’ ...
** libs
** arch - i386
gcc -arch i386 -std=gnu99 -I/Library/Frameworks/R.framework/Versions/2.9/Resources/include -I/Library/Frameworks/R.framework/Versions/2.9/Resources/include/i386  -I/usr/local/include    -fPIC  -mtune=core2 -g -O2 -c convolve2.c -o convolve2.o
gcc -arch i386 -std=gnu99 -dynamiclib -Wl,-headerpad_max_install_names -mmacosx-version-min=10.4 -undefined dynamic_lookup -single_module -multiply_defined suppress -L/usr/local/lib -o MassSpecWavelet.so convolve2.o -F/Library/Frameworks/R.framework/.. -framework R -Wl,-framework -Wl,CoreFoundation
** arch - ppc
gcc -arch ppc -std=gnu99 -I/Library/Frameworks/R.framework/Versions/2.9/Resources/include -I/Library/Frameworks/R.framework/Versions/2.9/Resources/include/ppc  -I/usr/local/include    -fPIC  -g -O2 -c convolve2.c -o convolve2.o
gcc -arch ppc -std=gnu99 -dynamiclib -Wl,-headerpad_max_install_names -mmacosx-version-min=10.4 -undefined dynamic_lookup -single_module -multiply_defined suppress -L/usr/local/lib -o MassSpecWavelet.so convolve2.o -F/Library/Frameworks/R.framework/.. -framework R -Wl,-framework -Wl,CoreFoundation
** R
** data
** inst
** preparing package for lazy loading
** help
*** installing help indices
 >>> Building/Updating help pages for package 'MassSpecWavelet'
     Formats: text html latex example 
  MassSpecWavelet.package           text    html    latex   example
  cwt                               text    html    latex   example
  exampleMS                         text    html    latex
  extendLength                      text    html    latex   example
  extendNBase                       text    html    latex   example
  getLocalMaximumCWT                text    html    latex   example
  getRidge                          text    html    latex   example
  getRidgeLength                    text    html    latex
Note: removing empty section \examples in file 'getRidgeValue.Rd'
  getRidgeValue                     text    html    latex
  identifyMajorPeaks                text    html    latex   example
  localMaximum                      text    html    latex   example
  mzInd2vRange                      text    html    latex
  mzV2indRange                      text    html    latex
  peakDetectionCWT                  text    html    latex   example
  plotLocalMax                      text    html    latex   example
  plotPeak                          text    html    latex   example
  plotRidgeList                     text    html    latex   example
Note: removing empty section \examples in file 'sav.gol.Rd'
  sav.gol                           text    html    latex
Note: removing empty section \details in file 'smoothDWT.Rd'
Note: removing empty section \references in file 'smoothDWT.Rd'
Note: removing empty section \examples in file 'smoothDWT.Rd'
  smoothDWT                         text    html    latex
  tuneInPeakInfo                    text    html    latex   example
** building package indices ...
* DONE (MassSpecWavelet)
* creating vignettes ... OK
* cleaning src
* removing junk files
* checking for LF line-endings in source and make files
* checking for empty or unneeded directories
WARNING: directory 'MassSpecWavelet/inst/src' is empty
* building 'MassSpecWavelet_1.10.0.tar.gz'