| MLInterfaces 1.24.1 V. Carey
 
 | Bioconductor Changelog |  | Snapshot Date: 2009-10-20 11:27:33 -0700 (Tue, 20 Oct 2009) |  | URL: https://hedgehog.fhcrc.org/bioconductor/branches/RELEASE_2_4/madman/Rpacks/MLInterfaces |  | Last Changed Rev: 42122 / Revision: 42512 |  | Last Changed Date: 2009-10-01 20:58:02 -0700 (Thu, 01 Oct 2009) | 
 | wilson1 | Linux (openSUSE 11.1) / x86_64 | OK | OK |  | 
| liverpool | Windows Server 2003 R2 (32-bit) / x64 | OK | OK | OK | 
| pitt | Mac OS X Tiger (10.4.11) / i386 | OK | OK | [ OK ] | 
| pelham | Mac OS X Leopard (10.5.8) / i386 | OK | OK | OK | 
                INSTALLATION WITH 'R CMD INSTALL --preclean --library=MLInterfaces.buildbin-libdir MLInterfaces_1.24.1.tar.gz'
* Installing *source* package ‘MLInterfaces’ ...
** R
** inst
** preparing package for lazy loading
Welcome to Bioconductor
  Vignettes contain introductory material. To view, type
  'openVignette()'. To cite Bioconductor, see
  'citation("Biobase")' and for packages 'citation(pkgname)'.
Attaching package: 'genefilter'
	The following object(s) are masked from package:MASS :
	 area 
Loading required package: AnnotationDbi
** help
*** installing help indices
 >>> Building/Updating help pages for package 'MLInterfaces'
     Formats: text html latex example 
Note: removing empty section \examples in file 'MLIntInternals.Rd'
  MLIntInternals                    text    html    latex
  MLearn-new                        text    html    latex   example
  RAB                               text    html    latex   example
  balKfold.xvspec                   text    html    latex   example
  classifierOutput-class            text    html    latex   example
  clusteringOutput-class            text    html    latex   example
  confuMat-methods                  text    html    latex   example
  fs.absT                           text    html    latex   example
  fsHistory                         text    html    latex   example
  learnerSchema-class               text    html    latex   example
  planarPlot-methods                text    html    latex   example
  raboostCont-class                 text    html    latex   example
  varImpStruct-class                text    html    latex   example
  xvalLoop                          text    html    latex   example
  xvalSpec                          text    html    latex   example
** building package indices ...
* DONE (MLInterfaces)