| ITALICS 2.4.0 Guillem Rigaill
 
 | Bioconductor Changelog |  | Snapshot Date: 2009-10-20 11:27:33 -0700 (Tue, 20 Oct 2009) |  | URL: https://hedgehog.fhcrc.org/bioconductor/branches/RELEASE_2_4/madman/Rpacks/ITALICS |  | Last Changed Rev: 39013 / Revision: 42512 |  | Last Changed Date: 2009-04-20 16:24:12 -0700 (Mon, 20 Apr 2009) | 
 | wilson1 | Linux (openSUSE 11.1) / x86_64 | OK | OK |  | 
| liverpool | Windows Server 2003 R2 (32-bit) / x64 | OK | OK | [ OK ] | 
| pitt | Mac OS X Tiger (10.4.11) / i386 | OK | OK | OK | 
| pelham | Mac OS X Leopard (10.5.8) / i386 | OK | OK | OK | 
* Installing *source* package 'ITALICS' ...
  Using auto-selected zip options ''
** R
** inst
** preparing package for lazy loading
[1] "Have fun with GLAD"
[1] "For smoothing it is possible to use either"
[1] "the AWS algorithm (Polzehl and Spokoiny, 2002)"
[1] "or the HaarSeg algorithm (Ben-Yaacov and Eldar, 2008)"
[1] ""
[1] "If you use the package with AWS, please cite:"
[1] "Hupe et al. (2004) and Polzehl and Spokoiny (2002)"
[1] ""
[1] "If you use the package with HaarSeg, please cite:"
[1] "Hupe et al. (2004) and (Ben-Yaacov and Eldar, 2008)"
Loading required package: oligoClasses
Loading required package: Biobase
Welcome to Bioconductor
  Vignettes contain introductory material. To view, type
  'openVignette()'. To cite Bioconductor, see
  'citation("Biobase")' and for packages 'citation(pkgname)'.
Loading required package: preprocessCore
Welcome to oligo version 1.8.3
Loading required package: RSQLite
Loading required package: DBI
** help
*** installing help indices
 >>> Building/Updating help pages for package 'ITALICS'
     Formats: text html latex example chm 
Note: ignoring empty \keyword entries in file 'GLAD.GLAD.Rd'
Note: ignoring empty \keyword entries in file 'GLAD.GLAD.Rd'
  GLAD.GLAD                         text    html    latex           chm
Note: ignoring empty \keyword entries in file 'ITALICSNew.Rd'
Note: ignoring empty \keyword entries in file 'ITALICSNew.Rd'
  ITALICSNew                        text    html    latex   example chm
Note: ignoring empty \keyword entries in file 'ITALICSTrain.Rd'
Note: ignoring empty \keyword entries in file 'ITALICSTrain.Rd'
  ITALICSTrain                      text    html    latex           chm
Note: ignoring empty \keyword entries in file 'Model.GetConfDat.Rd'
Note: ignoring empty \keyword entries in file 'Model.GetConfDat.Rd'
  Model.GetConfDat                  text    html    latex           chm
Note: ignoring empty \keyword entries in file 'Model.GetCorrection.Rd'
Note: ignoring empty \keyword entries in file 'Model.GetCorrection.Rd'
  Model.GetCorrection               text    html    latex           chm
Note: ignoring empty \keyword entries in file 'Model.GetEffet.Rd'
Note: ignoring empty \keyword entries in file 'Model.GetEffet.Rd'
  Model.GetEffet                    text    html    latex           chm
Note: ignoring empty \keyword entries in file 'Model.GetModel.Rd'
Note: ignoring empty \keyword entries in file 'Model.GetModel.Rd'
  Model.GetModel                    text    html    latex           chm
Note: ignoring empty \keyword entries in file 'Model.GetResidu.Rd'
Note: ignoring empty \keyword entries in file 'Model.GetResidu.Rd'
  Model.GetResidu                   text    html    latex           chm
Note: ignoring empty \keyword entries in file 'New.AddInfo.Rd'
Note: ignoring empty \keyword entries in file 'New.AddInfo.Rd'
  New.AddInfo                       text    html    latex           chm
Note: ignoring empty \keyword entries in file 'New.fromQuartetToSnp.Rd'
Note: removing empty section \examples in file 'New.fromQuartetToSnp.Rd'
Note: ignoring empty \keyword entries in file 'New.fromQuartetToSnp.Rd'
Note: removing empty section \examples in file 'New.fromQuartetToSnp.Rd'
  New.fromQuartetToSnp              text    html    latex           chm
Note: ignoring empty \keyword entries in file 'New.fromSnpToQuartet.Rd'
Note: ignoring empty \keyword entries in file 'New.fromSnpToQuartet.Rd'
  New.fromSnpToQuartet              text    html    latex           chm
Note: ignoring empty \keyword entries in file 'New.getQuartet.Rd'
Note: ignoring empty \keyword entries in file 'New.getQuartet.Rd'
  New.getQuartet                    text    html    latex           chm
Note: ignoring empty \keyword entries in file 'New.getSnpInfo.Rd'
Note: ignoring empty \keyword entries in file 'New.getSnpInfo.Rd'
  New.getSnpInfo                    text    html    latex           chm
Note: ignoring empty \keyword entries in file 'New.readQuartetCopyNb.Rd'
Note: ignoring empty \keyword entries in file 'New.readQuartetCopyNb.Rd'
  New.readQuartetCopyNb             text    html    latex           chm
Microsoft HTML Help Compiler 4.74.8702
Compiling e:\biocbld\bbs-2.4-bioc\tmpdir\Rtmpg4Lm2q\R.INSTALL678418be\ITALICS\chm\ITALICS.chm
Compile time: 0 minutes, 2 seconds
15	Topics
44	Local links
14	Internet links
1	Graphic
Created e:\biocbld\bbs-2.4-bioc\tmpdir\Rtmpg4Lm2q\R.INSTALL678418be\ITALICS\chm\ITALICS.chm, 29,334 bytes
Compression decreased file by 19,569 bytes.
** building package indices ...
** MD5 sums
packaged installation of 'ITALICS' as ITALICS_2.4.0.zip
* DONE (ITALICS)