| GraphAlignment 1.6.0 Joern P. Meier
 
 | Bioconductor Changelog |  | Snapshot Date: 2009-10-20 11:27:33 -0700 (Tue, 20 Oct 2009) |  | URL: https://hedgehog.fhcrc.org/bioconductor/branches/RELEASE_2_4/madman/Rpacks/GraphAlignment |  | Last Changed Rev: 39013 / Revision: 42512 |  | Last Changed Date: 2009-04-20 16:24:12 -0700 (Mon, 20 Apr 2009) | 
 | wilson1 | Linux (openSUSE 11.1) / x86_64 | OK | OK |  | 
| liverpool | Windows Server 2003 R2 (32-bit) / x64 | OK | OK | OK | 
| pitt | Mac OS X Tiger (10.4.11) / i386 | OK | OK | OK | 
| pelham | Mac OS X Leopard (10.5.8) / i386 | OK | OK | [ OK ] | 
                INSTALLATION WITH 'R CMD INSTALL --preclean --library=GraphAlignment.buildbin-libdir GraphAlignment_1.6.0.tar.gz'
* Installing *source* package ‘GraphAlignment’ ...
** libs
** arch - i386
gcc-4.2 -arch i386 -std=gnu99 -I/Library/Frameworks/R.framework/Versions/2.9/Resources/include -I/Library/Frameworks/R.framework/Versions/2.9/Resources/include/i386  -I/usr/local/include    -fPIC  -g -O2 -Wall -c GA_alloc.c -o GA_alloc.o
gcc-4.2 -arch i386 -std=gnu99 -I/Library/Frameworks/R.framework/Versions/2.9/Resources/include -I/Library/Frameworks/R.framework/Versions/2.9/Resources/include/i386  -I/usr/local/include    -fPIC  -g -O2 -Wall -c GA_matrix.c -o GA_matrix.o
gcc-4.2 -arch i386 -std=gnu99 -I/Library/Frameworks/R.framework/Versions/2.9/Resources/include -I/Library/Frameworks/R.framework/Versions/2.9/Resources/include/i386  -I/usr/local/include    -fPIC  -g -O2 -Wall -c GA_matrix_R.c -o GA_matrix_R.o
gcc-4.2 -arch i386 -std=gnu99 -I/Library/Frameworks/R.framework/Versions/2.9/Resources/include -I/Library/Frameworks/R.framework/Versions/2.9/Resources/include/i386  -I/usr/local/include    -fPIC  -g -O2 -Wall -c GA_message.c -o GA_message.o
gcc-4.2 -arch i386 -std=gnu99 -I/Library/Frameworks/R.framework/Versions/2.9/Resources/include -I/Library/Frameworks/R.framework/Versions/2.9/Resources/include/i386  -I/usr/local/include    -fPIC  -g -O2 -Wall -c GA_vector.c -o GA_vector.o
gcc-4.2 -arch i386 -std=gnu99 -I/Library/Frameworks/R.framework/Versions/2.9/Resources/include -I/Library/Frameworks/R.framework/Versions/2.9/Resources/include/i386  -I/usr/local/include    -fPIC  -g -O2 -Wall -c GA_vector_R.c -o GA_vector_R.o
GA_vector_R.c: In function ‘GA_clamp_mode_from_R’:
GA_vector_R.c:139: warning: unused variable ‘size’
gcc-4.2 -arch i386 -std=gnu99 -I/Library/Frameworks/R.framework/Versions/2.9/Resources/include -I/Library/Frameworks/R.framework/Versions/2.9/Resources/include/i386  -I/usr/local/include    -fPIC  -g -O2 -Wall -c GraphAlignment.c -o GraphAlignment.o
GraphAlignment.c: In function ‘GA_encode_directed_graph’:
GraphAlignment.c:138: warning: suggest explicit braces to avoid ambiguous ‘else’
GraphAlignment.c:159: warning: suggest explicit braces to avoid ambiguous ‘else’
GraphAlignment.c: In function ‘GA_directed_mode_from_R’:
GraphAlignment.c:264: warning: unused variable ‘size’
gcc-4.2 -arch i386 -std=gnu99 -I/Library/Frameworks/R.framework/Versions/2.9/Resources/include -I/Library/Frameworks/R.framework/Versions/2.9/Resources/include/i386  -I/usr/local/include    -fPIC  -g -O2 -Wall -c lap.c -o lap.o
lap.c: In function ‘LAP_lap’:
lap.c:65: warning: ‘min’ may be used uninitialized in this function
lap.c:64: warning: ‘last’ may be used uninitialized in this function
gcc-4.2 -arch i386 -std=gnu99 -dynamiclib -Wl,-headerpad_max_install_names -undefined dynamic_lookup -single_module -multiply_defined suppress -L/usr/local/lib -o GraphAlignment.so GA_alloc.o GA_matrix.o GA_matrix_R.o GA_message.o GA_vector.o GA_vector_R.o GraphAlignment.o lap.o -F/Library/Frameworks/R.framework/.. -framework R -Wl,-framework -Wl,CoreFoundation
** arch - ppc
gcc-4.2 -arch ppc -std=gnu99 -I/Library/Frameworks/R.framework/Versions/2.9/Resources/include -I/Library/Frameworks/R.framework/Versions/2.9/Resources/include/ppc  -I/usr/local/include    -fPIC  -g -O2 -Wall -c GA_alloc.c -o GA_alloc.o
gcc-4.2 -arch ppc -std=gnu99 -I/Library/Frameworks/R.framework/Versions/2.9/Resources/include -I/Library/Frameworks/R.framework/Versions/2.9/Resources/include/ppc  -I/usr/local/include    -fPIC  -g -O2 -Wall -c GA_matrix.c -o GA_matrix.o
gcc-4.2 -arch ppc -std=gnu99 -I/Library/Frameworks/R.framework/Versions/2.9/Resources/include -I/Library/Frameworks/R.framework/Versions/2.9/Resources/include/ppc  -I/usr/local/include    -fPIC  -g -O2 -Wall -c GA_matrix_R.c -o GA_matrix_R.o
gcc-4.2 -arch ppc -std=gnu99 -I/Library/Frameworks/R.framework/Versions/2.9/Resources/include -I/Library/Frameworks/R.framework/Versions/2.9/Resources/include/ppc  -I/usr/local/include    -fPIC  -g -O2 -Wall -c GA_message.c -o GA_message.o
gcc-4.2 -arch ppc -std=gnu99 -I/Library/Frameworks/R.framework/Versions/2.9/Resources/include -I/Library/Frameworks/R.framework/Versions/2.9/Resources/include/ppc  -I/usr/local/include    -fPIC  -g -O2 -Wall -c GA_vector.c -o GA_vector.o
gcc-4.2 -arch ppc -std=gnu99 -I/Library/Frameworks/R.framework/Versions/2.9/Resources/include -I/Library/Frameworks/R.framework/Versions/2.9/Resources/include/ppc  -I/usr/local/include    -fPIC  -g -O2 -Wall -c GA_vector_R.c -o GA_vector_R.o
GA_vector_R.c: In function ‘GA_clamp_mode_from_R’:
GA_vector_R.c:139: warning: unused variable ‘size’
gcc-4.2 -arch ppc -std=gnu99 -I/Library/Frameworks/R.framework/Versions/2.9/Resources/include -I/Library/Frameworks/R.framework/Versions/2.9/Resources/include/ppc  -I/usr/local/include    -fPIC  -g -O2 -Wall -c GraphAlignment.c -o GraphAlignment.o
GraphAlignment.c: In function ‘GA_encode_directed_graph’:
GraphAlignment.c:138: warning: suggest explicit braces to avoid ambiguous ‘else’
GraphAlignment.c:159: warning: suggest explicit braces to avoid ambiguous ‘else’
GraphAlignment.c: In function ‘GA_directed_mode_from_R’:
GraphAlignment.c:264: warning: unused variable ‘size’
gcc-4.2 -arch ppc -std=gnu99 -I/Library/Frameworks/R.framework/Versions/2.9/Resources/include -I/Library/Frameworks/R.framework/Versions/2.9/Resources/include/ppc  -I/usr/local/include    -fPIC  -g -O2 -Wall -c lap.c -o lap.o
lap.c: In function ‘LAP_lap’:
lap.c:65: warning: ‘min’ may be used uninitialized in this function
lap.c:64: warning: ‘last’ may be used uninitialized in this function
gcc-4.2 -arch ppc -std=gnu99 -dynamiclib -Wl,-headerpad_max_install_names -undefined dynamic_lookup -single_module -multiply_defined suppress -L/usr/local/lib -o GraphAlignment.so GA_alloc.o GA_matrix.o GA_matrix_R.o GA_message.o GA_vector.o GA_vector_R.o GraphAlignment.o lap.o -F/Library/Frameworks/R.framework/.. -framework R -Wl,-framework -Wl,CoreFoundation
** arch - ppc64
gcc-4.2 -arch ppc64 -std=gnu99 -I/Library/Frameworks/R.framework/Versions/2.9/Resources/include -I/Library/Frameworks/R.framework/Versions/2.9/Resources/include/ppc64  -I/usr/local/include    -fPIC  -g -O2 -Wall -c GA_alloc.c -o GA_alloc.o
gcc-4.2 -arch ppc64 -std=gnu99 -I/Library/Frameworks/R.framework/Versions/2.9/Resources/include -I/Library/Frameworks/R.framework/Versions/2.9/Resources/include/ppc64  -I/usr/local/include    -fPIC  -g -O2 -Wall -c GA_matrix.c -o GA_matrix.o
gcc-4.2 -arch ppc64 -std=gnu99 -I/Library/Frameworks/R.framework/Versions/2.9/Resources/include -I/Library/Frameworks/R.framework/Versions/2.9/Resources/include/ppc64  -I/usr/local/include    -fPIC  -g -O2 -Wall -c GA_matrix_R.c -o GA_matrix_R.o
gcc-4.2 -arch ppc64 -std=gnu99 -I/Library/Frameworks/R.framework/Versions/2.9/Resources/include -I/Library/Frameworks/R.framework/Versions/2.9/Resources/include/ppc64  -I/usr/local/include    -fPIC  -g -O2 -Wall -c GA_message.c -o GA_message.o
gcc-4.2 -arch ppc64 -std=gnu99 -I/Library/Frameworks/R.framework/Versions/2.9/Resources/include -I/Library/Frameworks/R.framework/Versions/2.9/Resources/include/ppc64  -I/usr/local/include    -fPIC  -g -O2 -Wall -c GA_vector.c -o GA_vector.o
gcc-4.2 -arch ppc64 -std=gnu99 -I/Library/Frameworks/R.framework/Versions/2.9/Resources/include -I/Library/Frameworks/R.framework/Versions/2.9/Resources/include/ppc64  -I/usr/local/include    -fPIC  -g -O2 -Wall -c GA_vector_R.c -o GA_vector_R.o
GA_vector_R.c: In function ‘GA_clamp_mode_from_R’:
GA_vector_R.c:139: warning: unused variable ‘size’
gcc-4.2 -arch ppc64 -std=gnu99 -I/Library/Frameworks/R.framework/Versions/2.9/Resources/include -I/Library/Frameworks/R.framework/Versions/2.9/Resources/include/ppc64  -I/usr/local/include    -fPIC  -g -O2 -Wall -c GraphAlignment.c -o GraphAlignment.o
GraphAlignment.c: In function ‘GA_encode_directed_graph’:
GraphAlignment.c:138: warning: suggest explicit braces to avoid ambiguous ‘else’
GraphAlignment.c:159: warning: suggest explicit braces to avoid ambiguous ‘else’
GraphAlignment.c: In function ‘GA_directed_mode_from_R’:
GraphAlignment.c:264: warning: unused variable ‘size’
gcc-4.2 -arch ppc64 -std=gnu99 -I/Library/Frameworks/R.framework/Versions/2.9/Resources/include -I/Library/Frameworks/R.framework/Versions/2.9/Resources/include/ppc64  -I/usr/local/include    -fPIC  -g -O2 -Wall -c lap.c -o lap.o
lap.c: In function ‘LAP_lap’:
lap.c:65: warning: ‘min’ may be used uninitialized in this function
lap.c:64: warning: ‘last’ may be used uninitialized in this function
gcc-4.2 -arch ppc64 -std=gnu99 -dynamiclib -Wl,-headerpad_max_install_names -undefined dynamic_lookup -single_module -multiply_defined suppress -L/usr/local/lib -o GraphAlignment.so GA_alloc.o GA_matrix.o GA_matrix_R.o GA_message.o GA_vector.o GA_vector_R.o GraphAlignment.o lap.o -F/Library/Frameworks/R.framework/.. -framework R -Wl,-framework -Wl,CoreFoundation
** arch - x86_64
gcc-4.2 -arch x86_64 -std=gnu99 -I/Library/Frameworks/R.framework/Versions/2.9/Resources/include -I/Library/Frameworks/R.framework/Versions/2.9/Resources/include/x86_64  -I/usr/local/include    -fPIC  -g -O2 -Wall -c GA_alloc.c -o GA_alloc.o
gcc-4.2 -arch x86_64 -std=gnu99 -I/Library/Frameworks/R.framework/Versions/2.9/Resources/include -I/Library/Frameworks/R.framework/Versions/2.9/Resources/include/x86_64  -I/usr/local/include    -fPIC  -g -O2 -Wall -c GA_matrix.c -o GA_matrix.o
gcc-4.2 -arch x86_64 -std=gnu99 -I/Library/Frameworks/R.framework/Versions/2.9/Resources/include -I/Library/Frameworks/R.framework/Versions/2.9/Resources/include/x86_64  -I/usr/local/include    -fPIC  -g -O2 -Wall -c GA_matrix_R.c -o GA_matrix_R.o
gcc-4.2 -arch x86_64 -std=gnu99 -I/Library/Frameworks/R.framework/Versions/2.9/Resources/include -I/Library/Frameworks/R.framework/Versions/2.9/Resources/include/x86_64  -I/usr/local/include    -fPIC  -g -O2 -Wall -c GA_message.c -o GA_message.o
gcc-4.2 -arch x86_64 -std=gnu99 -I/Library/Frameworks/R.framework/Versions/2.9/Resources/include -I/Library/Frameworks/R.framework/Versions/2.9/Resources/include/x86_64  -I/usr/local/include    -fPIC  -g -O2 -Wall -c GA_vector.c -o GA_vector.o
gcc-4.2 -arch x86_64 -std=gnu99 -I/Library/Frameworks/R.framework/Versions/2.9/Resources/include -I/Library/Frameworks/R.framework/Versions/2.9/Resources/include/x86_64  -I/usr/local/include    -fPIC  -g -O2 -Wall -c GA_vector_R.c -o GA_vector_R.o
GA_vector_R.c: In function ‘GA_clamp_mode_from_R’:
GA_vector_R.c:139: warning: unused variable ‘size’
gcc-4.2 -arch x86_64 -std=gnu99 -I/Library/Frameworks/R.framework/Versions/2.9/Resources/include -I/Library/Frameworks/R.framework/Versions/2.9/Resources/include/x86_64  -I/usr/local/include    -fPIC  -g -O2 -Wall -c GraphAlignment.c -o GraphAlignment.o
GraphAlignment.c: In function ‘GA_encode_directed_graph’:
GraphAlignment.c:138: warning: suggest explicit braces to avoid ambiguous ‘else’
GraphAlignment.c:159: warning: suggest explicit braces to avoid ambiguous ‘else’
GraphAlignment.c: In function ‘GA_directed_mode_from_R’:
GraphAlignment.c:264: warning: unused variable ‘size’
gcc-4.2 -arch x86_64 -std=gnu99 -I/Library/Frameworks/R.framework/Versions/2.9/Resources/include -I/Library/Frameworks/R.framework/Versions/2.9/Resources/include/x86_64  -I/usr/local/include    -fPIC  -g -O2 -Wall -c lap.c -o lap.o
lap.c: In function ‘LAP_lap’:
lap.c:65: warning: ‘min’ may be used uninitialized in this function
lap.c:64: warning: ‘last’ may be used uninitialized in this function
gcc-4.2 -arch x86_64 -std=gnu99 -dynamiclib -Wl,-headerpad_max_install_names -undefined dynamic_lookup -single_module -multiply_defined suppress -L/usr/local/lib -o GraphAlignment.so GA_alloc.o GA_matrix.o GA_matrix_R.o GA_message.o GA_vector.o GA_vector_R.o GraphAlignment.o lap.o -F/Library/Frameworks/R.framework/.. -framework R -Wl,-framework -Wl,CoreFoundation
** R
** inst
** preparing package for lazy loading
** help
*** installing help indices
 >>> Building/Updating help pages for package 'GraphAlignment'
     Formats: text html latex example 
  AlignNetworks                     text    html    latex   example
  AlignedPairs                      text    html    latex   example
  AnalyzeAlignment                  text    html    latex   example
  ComputeLinkParameters             text    html    latex   example
  ComputeM                          text    html    latex   example
  ComputeNodeParameters             text    html    latex   example
  ComputeScores                     text    html    latex   example
  CreateScoreMatrix                 text    html    latex   example
  EncodeDirectedGraph               text    html    latex   example
  GenerateExample                   text    html    latex   example
  GetBinNumber                      text    html    latex   example
  InitialAlignment                  text    html    latex   example
  InvertPermutation                 text    html    latex   example
  LinearAssignment                  text    html    latex   example
  MatrixToBin                       text    html    latex   example
  Permute                           text    html    latex   example
  Trace                             text    html    latex   example
  VectorToBin                       text    html    latex   example
** building package indices ...
* DONE (GraphAlignment)