| GraphAT 1.16.0 Thomas LaFramboise
 
 | Bioconductor Changelog |  | Snapshot Date: 2009-10-20 11:27:33 -0700 (Tue, 20 Oct 2009) |  | URL: https://hedgehog.fhcrc.org/bioconductor/branches/RELEASE_2_4/madman/Rpacks/GraphAT |  | Last Changed Rev: 39013 / Revision: 42512 |  | Last Changed Date: 2009-04-20 16:24:12 -0700 (Mon, 20 Apr 2009) | 
 | wilson1 | Linux (openSUSE 11.1) / x86_64 | OK | OK |  | 
| liverpool | Windows Server 2003 R2 (32-bit) / x64 | OK | OK | [ OK ] | 
| pitt | Mac OS X Tiger (10.4.11) / i386 | OK | OK | OK | 
| pelham | Mac OS X Leopard (10.5.8) / i386 | OK | OK | OK | 
* Installing *source* package 'GraphAT' ...
  Using auto-selected zip options '--use-zip-data '
** R
** data
** preparing package for lazy loading
Loading required package: coda
Loading required package: lattice
Loading required package: MASS
##
## Markov Chain Monte Carlo Package (MCMCpack)
## Copyright (C) 2003-2009 Andrew D. Martin, Kevin M. Quinn, and Jong Hee Park
##
## Support provided by the U.S. National Science Foundation
## (Grants SES-0350646 and SES-0350613)
##
** help
*** installing help indices
 >>> Building/Updating help pages for package 'GraphAT'
     Formats: text html latex example chm 
  Phenoclusters                     text    html    latex   example chm
  causton                           text    html    latex   example chm
  cellcycle                         text    html    latex   example chm
  clust2Mat                         text    html    latex   example chm
Note: removing empty section \references in file 'depthmat.Rd'
Note: removing empty section \references in file 'depthmat.Rd'
  depthmat                          text    html    latex   example chm
  getpvalue                         text    html    latex   example chm
  giaever                           text    html    latex   example chm
  mRNAclusters                      text    html    latex   example chm
  makeClustM                        text    html    latex   example chm
  mat2UndirG                        text    html    latex   example chm
  permPower                         text    html    latex   example chm
  perms                             text    html    latex   example chm
Microsoft HTML Help Compiler 4.74.8702
Compiling e:\biocbld\bbs-2.4-bioc\tmpdir\Rtmp24Q53a\R.INSTALL678418be\GraphAT\chm\GraphAT.chm
Compile time: 0 minutes, 3 seconds
13	Topics
37	Local links
5	Internet links
1	Graphic
Created e:\biocbld\bbs-2.4-bioc\tmpdir\Rtmp24Q53a\R.INSTALL678418be\GraphAT\chm\GraphAT.chm, 29,570 bytes
Compression decreased file by 8,444 bytes.
** building package indices ...
** MD5 sums
packaged installation of 'GraphAT' as GraphAT_1.16.0.zip
* DONE (GraphAT)