| GeneSpring 2.18.0 Thon de Boer
 
 | Bioconductor Changelog |  | Snapshot Date: 2009-10-20 11:27:33 -0700 (Tue, 20 Oct 2009) |  | URL: https://hedgehog.fhcrc.org/bioconductor/branches/RELEASE_2_4/madman/Rpacks/GeneSpring |  | Last Changed Rev: 39013 / Revision: 42512 |  | Last Changed Date: 2009-04-20 16:24:12 -0700 (Mon, 20 Apr 2009) | 
 | wilson1 | Linux (openSUSE 11.1) / x86_64 | OK | OK |  | 
| liverpool | Windows Server 2003 R2 (32-bit) / x64 | OK | OK | OK | 
| pitt | Mac OS X Tiger (10.4.11) / i386 | [ OK ] | OK | OK | 
| pelham | Mac OS X Leopard (10.5.8) / i386 | OK | OK | OK | 
* checking for file 'GeneSpring/DESCRIPTION' ... OK
* preparing 'GeneSpring':
* checking DESCRIPTION meta-information ... OK
* installing the package to re-build vignettes
* Installing *source* package ‘GeneSpring’ ...
** R
** inst
** preparing package for lazy loading
Welcome to Bioconductor
  Vignettes contain introductory material. To view, type
  'openVignette()'. To cite Bioconductor, see
  'citation("Biobase")' and for packages 'citation(pkgname)'.
** help
*** installing help indices
 >>> Building/Updating help pages for package 'GeneSpring'
     Formats: text html latex example 
  GSint                             text    html    latex   example
  GSint2BC                          text    html    latex   example
Note: removing empty section \examples in file 'GSload.exp.Rd'
  GSload.exp                        text    html    latex
Note: removing empty section \seealso in file 'GSload.genelist.Rd'
  GSload.genelist                   text    html    latex   example
Note: removing empty section \examples in file 'GSload.int.Rd'
  GSload.int                        text    html    latex
  GSsave.exp                        text    html    latex   example
** building package indices ...
* DONE (GeneSpring)
* creating vignettes ... OK
* removing junk files
* checking for LF line-endings in source and make files
* checking for empty or unneeded directories
* building 'GeneSpring_2.18.0.tar.gz'