| GEOquery 2.8.0 Sean Davis
 
 | Bioconductor Changelog |  | Snapshot Date: 2009-10-20 11:27:33 -0700 (Tue, 20 Oct 2009) |  | URL: https://hedgehog.fhcrc.org/bioconductor/branches/RELEASE_2_4/madman/Rpacks/GEOquery |  | Last Changed Rev: 39013 / Revision: 42512 |  | Last Changed Date: 2009-04-20 16:24:12 -0700 (Mon, 20 Apr 2009) | 
 | wilson1 | Linux (openSUSE 11.1) / x86_64 | ERROR | skipped |  | 
| liverpool | Windows Server 2003 R2 (32-bit) / x64 | OK | OK | OK | 
| pitt | Mac OS X Tiger (10.4.11) / i386 | OK | OK | [ OK ] | 
| pelham | Mac OS X Leopard (10.5.8) / i386 | OK | OK | OK | 
                INSTALLATION WITH 'R CMD INSTALL --preclean --library=GEOquery.buildbin-libdir GEOquery_2.8.0.tar.gz'
* Installing *source* package ‘GEOquery’ ...
** R
** inst
** preparing package for lazy loading
Welcome to Bioconductor
  Vignettes contain introductory material. To view, type
  'openVignette()'. To cite Bioconductor, see
  'citation("Biobase")' and for packages 'citation(pkgname)'.
Loading required package: bitops
** help
*** installing help indices
 >>> Building/Updating help pages for package 'GEOquery'
     Formats: text html latex example 
  GDS-class                         text    html    latex
  GDS2MA                            text    html    latex   example
  GEOData-class                     text    html    latex
  GEODataTable-class                text    html    latex
  GPL-class                         text    html    latex
  GSE-class                         text    html    latex
  GSM-class                         text    html    latex
Note: removing empty section \usage in file 'dataTable.Rd'
Note: removing empty section \details in file 'dataTable.Rd'
Note: removing empty section \arguments in file 'dataTable.Rd'
  dataTable                         text    html    latex
  getGEO                            text    html    latex   example
  getGEOSuppFiles                   text    html    latex   example
  getGEOfile                        text    html    latex   example
  gunzip                            text    html    latex
  parseGEO                          text    html    latex
** building package indices ...
* DONE (GEOquery)