| GEOmetadb 1.4.0 Jack Zhu
 
 | Bioconductor Changelog |  | Snapshot Date: 2009-10-20 11:27:33 -0700 (Tue, 20 Oct 2009) |  | URL: https://hedgehog.fhcrc.org/bioconductor/branches/RELEASE_2_4/madman/Rpacks/GEOmetadb |  | Last Changed Rev: 39013 / Revision: 42512 |  | Last Changed Date: 2009-04-20 16:24:12 -0700 (Mon, 20 Apr 2009) | 
 | wilson1 | Linux (openSUSE 11.1) / x86_64 | OK | OK |  | 
| liverpool | Windows Server 2003 R2 (32-bit) / x64 | OK | OK | OK | 
| pitt | Mac OS X Tiger (10.4.11) / i386 | OK | OK | [ OK ] | 
| pelham | Mac OS X Leopard (10.5.8) / i386 | OK | OK | OK | 
                INSTALLATION WITH 'R CMD INSTALL --preclean --library=GEOmetadb.buildbin-libdir GEOmetadb_1.4.0.tar.gz'
* Installing *source* package ‘GEOmetadb’ ...
** R
** inst
** preparing package for lazy loading
Loading required package: Biobase
Welcome to Bioconductor
  Vignettes contain introductory material. To view, type
  'openVignette()'. To cite Bioconductor, see
  'citation("Biobase")' and for packages 'citation(pkgname)'.
Loading required package: RCurl
Loading required package: bitops
Loading required package: DBI
** help
*** installing help indices
 >>> Building/Updating help pages for package 'GEOmetadb'
     Formats: text html latex example 
  GEOmetadb-package                 text    html    latex   example
  columnDescriptions                text    html    latex   example
  geoConvert                        text    html    latex   example
  getSQLiteFile                     text    html    latex   example
** building package indices ...
* DONE (GEOmetadb)