DEDS 1.18.0 Yuanyuan Xiao
 | Bioconductor Changelog |  | Snapshot Date: 2009-10-20 11:27:33 -0700 (Tue, 20 Oct 2009) |  | URL: https://hedgehog.fhcrc.org/bioconductor/branches/RELEASE_2_4/madman/Rpacks/DEDS |  | Last Changed Rev: 39013 / Revision: 42512 |  | Last Changed Date: 2009-04-20 16:24:12 -0700 (Mon, 20 Apr 2009) |  
  | wilson1  | Linux (openSUSE 11.1) / x86_64  |  OK  |  OK  |  | 
| liverpool  | Windows Server 2003 R2 (32-bit) / x64  |  OK  |  OK  |  OK  | 
| pitt  | Mac OS X Tiger (10.4.11) / i386  |  OK  |  OK  | [ OK ] | 
| pelham  | Mac OS X Leopard (10.5.8) / i386  |  OK  |  OK  |  OK  | 
                INSTALLATION WITH 'R CMD INSTALL --preclean --library=DEDS.buildbin-libdir DEDS_1.18.0.tar.gz'
* Installing *source* package ‘DEDS’ ...
** libs
** arch - i386
gcc -arch i386 -std=gnu99 -I/Library/Frameworks/R.framework/Versions/2.9/Resources/include -I/Library/Frameworks/R.framework/Versions/2.9/Resources/include/i386  -I/usr/local/include    -fPIC  -mtune=core2 -g -O2 -c deds.c -o deds.o
gcc -arch i386 -std=gnu99 -I/Library/Frameworks/R.framework/Versions/2.9/Resources/include -I/Library/Frameworks/R.framework/Versions/2.9/Resources/include/i386  -I/usr/local/include    -fPIC  -mtune=core2 -g -O2 -c distance.c -o distance.o
gcc -arch i386 -std=gnu99 -I/Library/Frameworks/R.framework/Versions/2.9/Resources/include -I/Library/Frameworks/R.framework/Versions/2.9/Resources/include/i386  -I/usr/local/include    -fPIC  -mtune=core2 -g -O2 -c input.c -o input.o
gcc -arch i386 -std=gnu99 -I/Library/Frameworks/R.framework/Versions/2.9/Resources/include -I/Library/Frameworks/R.framework/Versions/2.9/Resources/include/i386  -I/usr/local/include    -fPIC  -mtune=core2 -g -O2 -c manip.c -o manip.o
gcc -arch i386 -std=gnu99 -I/Library/Frameworks/R.framework/Versions/2.9/Resources/include -I/Library/Frameworks/R.framework/Versions/2.9/Resources/include/i386  -I/usr/local/include    -fPIC  -mtune=core2 -g -O2 -c random.c -o random.o
gcc -arch i386 -std=gnu99 -I/Library/Frameworks/R.framework/Versions/2.9/Resources/include -I/Library/Frameworks/R.framework/Versions/2.9/Resources/include/i386  -I/usr/local/include    -fPIC  -mtune=core2 -g -O2 -c sampling.c -o sampling.o
gcc -arch i386 -std=gnu99 -I/Library/Frameworks/R.framework/Versions/2.9/Resources/include -I/Library/Frameworks/R.framework/Versions/2.9/Resources/include/i386  -I/usr/local/include    -fPIC  -mtune=core2 -g -O2 -c stat_fun.c -o stat_fun.o
gcc -arch i386 -std=gnu99 -dynamiclib -Wl,-headerpad_max_install_names -mmacosx-version-min=10.4 -undefined dynamic_lookup -single_module -multiply_defined suppress -L/usr/local/lib -o DEDS.so deds.o distance.o input.o manip.o random.o sampling.o stat_fun.o -F/Library/Frameworks/R.framework/.. -framework R -Wl,-framework -Wl,CoreFoundation
** arch - ppc
gcc -arch ppc -std=gnu99 -I/Library/Frameworks/R.framework/Versions/2.9/Resources/include -I/Library/Frameworks/R.framework/Versions/2.9/Resources/include/ppc  -I/usr/local/include    -fPIC  -g -O2 -c deds.c -o deds.o
gcc -arch ppc -std=gnu99 -I/Library/Frameworks/R.framework/Versions/2.9/Resources/include -I/Library/Frameworks/R.framework/Versions/2.9/Resources/include/ppc  -I/usr/local/include    -fPIC  -g -O2 -c distance.c -o distance.o
gcc -arch ppc -std=gnu99 -I/Library/Frameworks/R.framework/Versions/2.9/Resources/include -I/Library/Frameworks/R.framework/Versions/2.9/Resources/include/ppc  -I/usr/local/include    -fPIC  -g -O2 -c input.c -o input.o
gcc -arch ppc -std=gnu99 -I/Library/Frameworks/R.framework/Versions/2.9/Resources/include -I/Library/Frameworks/R.framework/Versions/2.9/Resources/include/ppc  -I/usr/local/include    -fPIC  -g -O2 -c manip.c -o manip.o
gcc -arch ppc -std=gnu99 -I/Library/Frameworks/R.framework/Versions/2.9/Resources/include -I/Library/Frameworks/R.framework/Versions/2.9/Resources/include/ppc  -I/usr/local/include    -fPIC  -g -O2 -c random.c -o random.o
gcc -arch ppc -std=gnu99 -I/Library/Frameworks/R.framework/Versions/2.9/Resources/include -I/Library/Frameworks/R.framework/Versions/2.9/Resources/include/ppc  -I/usr/local/include    -fPIC  -g -O2 -c sampling.c -o sampling.o
gcc -arch ppc -std=gnu99 -I/Library/Frameworks/R.framework/Versions/2.9/Resources/include -I/Library/Frameworks/R.framework/Versions/2.9/Resources/include/ppc  -I/usr/local/include    -fPIC  -g -O2 -c stat_fun.c -o stat_fun.o
gcc -arch ppc -std=gnu99 -dynamiclib -Wl,-headerpad_max_install_names -mmacosx-version-min=10.4 -undefined dynamic_lookup -single_module -multiply_defined suppress -L/usr/local/lib -o DEDS.so deds.o distance.o input.o manip.o random.o sampling.o stat_fun.o -F/Library/Frameworks/R.framework/.. -framework R -Wl,-framework -Wl,CoreFoundation
** R
** data
** inst
** preparing package for lazy loading
** help
*** installing help indices
 >>> Building/Updating help pages for package 'DEDS'
     Formats: text html latex example 
  ApoA1                             text    html    latex
  DEDS-internal                     text    html    latex
  affySpikeIn                       text    html    latex
  aggregateFun                      text    html    latex   example
  comp.B                            text    html    latex   example
  comp.F                            text    html    latex   example
  comp.FC                           text    html    latex   example
  comp.SAM                          text    html    latex   example
  comp.adjp                         text    html    latex   example
  comp.ebayes                       text    html    latex   example
Note: removing empty section \details in file 'comp.fdr.Rd'
  comp.fdr                          text    html    latex   example
  comp.modF                         text    html    latex   example
  comp.modt                         text    html    latex   example
  comp.stat                         text    html    latex   example
  comp.t                            text    html    latex   example
  comp.unadjp                       text    html    latex   example
  deds.chooseTest                   text    html    latex   example
  deds.class                        text    html    latex
  deds.genExtra                     text    html    latex   example
Note: removing empty section \examples in file 'deds.pval.Rd'
  deds.pval                         text    html    latex
  deds.stat                         text    html    latex   example
  deds.stat.linkC                   text    html    latex   example
Note: removing empty section \examples in file 'hist.DEDS.Rd'
  hist.DEDS                         text    html    latex
  pairs.DEDS                        text    html    latex   example
  qqnorm.DEDS                       text    html    latex   example
  topgenes                          text    html    latex   example
** building package indices ...
* DONE (DEDS)