| DAVIDQuery 1.2.0 Roger Day
 
 | Bioconductor Changelog |  | Snapshot Date: 2009-10-20 11:27:33 -0700 (Tue, 20 Oct 2009) |  | URL: https://hedgehog.fhcrc.org/bioconductor/branches/RELEASE_2_4/madman/Rpacks/DAVIDQuery |  | Last Changed Rev: 39013 / Revision: 42512 |  | Last Changed Date: 2009-04-20 16:24:12 -0700 (Mon, 20 Apr 2009) | 
 | wilson1 | Linux (openSUSE 11.1) / x86_64 | OK | OK |  | 
| liverpool | Windows Server 2003 R2 (32-bit) / x64 | OK | OK | OK | 
| pitt | Mac OS X Tiger (10.4.11) / i386 | OK | [ OK ] | OK | 
| pelham | Mac OS X Leopard (10.5.8) / i386 | OK | OK | OK | 
* checking for working pdflatex ... OK
* using log directory '/Users/biocbuild/bbs-2.4-bioc/meat/DAVIDQuery.Rcheck'
* using R version 2.9.2 Patched (2009-08-24 r49419)
* using session charset: UTF-8
* using option '--no-vignettes'
* checking for file 'DAVIDQuery/DESCRIPTION' ... OK
* checking extension type ... Package
* this is package 'DAVIDQuery' version '1.2.0'
* checking package name space information ... OK
* checking package dependencies ... OK
* checking if this is a source package ... OK
* checking whether package 'DAVIDQuery' can be installed ... OK
* checking package directory ... OK
* checking for portable file names ... OK
* checking for sufficient/correct file permissions ... OK
* checking DESCRIPTION meta-information ... OK
* checking top-level files ... OK
* checking index information ... OK
* checking package subdirectories ... OK
* checking R files for non-ASCII characters ... OK
* checking R files for syntax errors ... OK
* checking whether the package can be loaded ... OK
* checking whether the package can be loaded with stated dependencies ... OK
* checking whether the name space can be loaded with stated dependencies ... OK
* checking for unstated dependencies in R code ... OK
* checking S3 generic/method consistency ... OK
* checking replacement functions ... OK
* checking foreign function calls ... OK
* checking R code for possible problems ... OK
* checking Rd files ... OK
* checking Rd files against version 2 parser ... OK
* checking Rd cross-references ... OK
* checking for missing documentation entries ... OK
* checking for code/documentation mismatches ... OK
* checking Rd \usage sections ... OK
* checking examples ... OK
* checking package vignettes in 'inst/doc' ... SKIPPED
* checking PDF version of manual ... OK
 
* Installing *source* package ‘DAVIDQuery’ ...
** R
** inst
** preparing package for lazy loading
** help
*** installing help indices
 >>> Building/Updating help pages for package 'DAVIDQuery'
     Formats: text html latex example 
  AffyProbesetList                  text    html    latex   example
  DAVIDQuery-package                text    html    latex
  DAVIDQuery                        text    html    latex   example
  DAVIDQueryLoop                    text    html    latex
  DAVIDToolChoices                  text    html    latex
  DAVIDURLBase                      text    html    latex
  affyToUniprot                     text    html    latex
  bracketedStrings                  text    html    latex   example
  catalogDAVIDResultsByTool         text    html    latex
  formatDAVIDResult                 text    html    latex
  idExampleList                     text    html    latex
  testGene2Gene                     text    html    latex   example
  uniprotToAffy                     text    html    latex
** building package indices ...
* DONE (DAVIDQuery)