| Back to the "Multiple platform build/check report" |
| Package 53/64 | Hostname | OS / Arch | BUILD | CHECK | BUILD BIN | ||||
| rfcdmin 1.6.5 N. Le Meur
| wilson2 | Linux (openSUSE 10.3) / x86_64 | OK | WARNINGS | |||||
| liverpool | Windows Server 2003 R2 (32-bit) / x64 | [ OK ] | WARNINGS | OK | |||||
| pelham | Mac OS X Leopard (10.5.6) / i386 | OK | WARNINGS | OK |
| Package: rfcdmin |
| Version: 1.6.5 |
| Command: E:\biocbld\bbs-2.3-bioc\R\bin\R.exe CMD build rfcdmin |
| StartedAt: 2009-04-10 01:34:33 -0700 (Fri, 10 Apr 2009) |
| EndedAt: 2009-04-10 01:34:47 -0700 (Fri, 10 Apr 2009) |
| EllapsedTime: 13.5 seconds |
| RetCode: 0 |
| Status: OK |
| PackageFile: rfcdmin_1.6.5.tar.gz |
| PackageFileSize: 34.24 MiB |
* checking for file 'rfcdmin/DESCRIPTION' ... OK * preparing 'rfcdmin': * checking DESCRIPTION meta-information ... OK * removing junk files * checking for LF line-endings in source and make files * checking for empty or unneeded directories * building 'rfcdmin_1.6.5.tar.gz'