| Back to the "Multiple platform build/check report" |
| Package 36/64 | Hostname | OS / Arch | BUILD | CHECK | BUILD BIN | ||||
| humanStemCell 0.2.0 R. Gentleman
| wilson2 | Linux (openSUSE 10.3) / x86_64 | OK | WARNINGS | |||||
| liverpool | Windows Server 2003 R2 (32-bit) / x64 | OK | WARNINGS | OK | |||||
| pelham | Mac OS X Leopard (10.5.6) / i386 | OK | WARNINGS | [ OK ] |
| Package: humanStemCell |
| Version: 0.2.0 |
| Command: /Users/biocbuild/BBS/utils/build-universal.sh humanStemCell_0.2.0.tar.gz /Library/Frameworks/R.framework/Versions/2.8/Resources/bin/R humanStemCell.buildbin-libdir |
| StartedAt: 2009-04-10 02:19:09 -0700 (Fri, 10 Apr 2009) |
| EndedAt: 2009-04-10 02:20:01 -0700 (Fri, 10 Apr 2009) |
| EllapsedTime: 51.4 seconds |
| RetCode: 0 |
| Status: OK |
| PackageFile: humanStemCell_0.2.0.tgz |
| PackageFileSize: 31.39 MiB |
INSTALLATION WITH 'R CMD INSTALL --library=humanStemCell.buildbin-libdir humanStemCell_0.2.0.tar.gz'
* Installing *source* package 'humanStemCell' ...
** data
** inst
No man pages found in package 'humanStemCell'
** building package indices ...
* DONE (humanStemCell)