| Back to the "Multiple platform build/check report" | 
| Package 24/64 | Hostname | OS / Arch | BUILD | CHECK | BUILD BIN | ||||
| golubEsets 1.4.4 Vince Carey 
 | wilson2 | Linux (openSUSE 10.3) / x86_64 | OK | OK | |||||
| liverpool | Windows Server 2003 R2 (32-bit) / x64 | [ OK ] | OK | OK | |||||
| pelham | Mac OS X Leopard (10.5.6) / i386 | OK | OK | OK | 
| Package: golubEsets | 
| Version: 1.4.4 | 
| Command: E:\biocbld\bbs-2.3-bioc\R\bin\R.exe CMD build golubEsets | 
| StartedAt: 2009-04-10 01:31:44 -0700 (Fri, 10 Apr 2009) | 
| EndedAt: 2009-04-10 01:31:47 -0700 (Fri, 10 Apr 2009) | 
| EllapsedTime: 3.5 seconds | 
| RetCode: 0 | 
| Status: OK | 
| PackageFile: golubEsets_1.4.4.tar.gz | 
| PackageFileSize: 7.995 MiB | 
* checking for file 'golubEsets/DESCRIPTION' ... OK * preparing 'golubEsets': * checking DESCRIPTION meta-information ... OK * removing junk files * checking for LF line-endings in source and make files * checking for empty or unneeded directories * building 'golubEsets_1.4.4.tar.gz'