| Back to the "Multiple platform build/check report" |
| Package 21/64 | Hostname | OS / Arch | BUILD | CHECK | BUILD BIN | ||||
| gatingMLData 1.0.1 Nishant Gopalakrishnan
| wilson2 | Linux (openSUSE 10.3) / x86_64 | OK | OK | |||||
| liverpool | Windows Server 2003 R2 (32-bit) / x64 | [ OK ] | OK | OK | |||||
| pelham | Mac OS X Leopard (10.5.6) / i386 | OK | OK | OK |
| Package: gatingMLData |
| Version: 1.0.1 |
| Command: E:\biocbld\bbs-2.3-bioc\R\bin\R.exe CMD build gatingMLData |
| StartedAt: 2009-04-10 01:30:07 -0700 (Fri, 10 Apr 2009) |
| EndedAt: 2009-04-10 01:31:44 -0700 (Fri, 10 Apr 2009) |
| EllapsedTime: 97.1 seconds |
| RetCode: 0 |
| Status: OK |
| PackageFile: gatingMLData_1.0.1.tar.gz |
| PackageFileSize: 1.793 MiB |
* checking for file 'gatingMLData/DESCRIPTION' ... OK * preparing 'gatingMLData': * checking DESCRIPTION meta-information ... OK * removing junk files * checking for LF line-endings in source and make files * checking for empty or unneeded directories * building 'gatingMLData_1.0.1.tar.gz'