weaver 1.8.0 Seth Falcon
 | Bioconductor Changelog |  | Snapshot Date: 2009-04-18 11:27:48 -0700 (Sat, 18 Apr 2009) |  | URL: https://hedgehog.fhcrc.org/bioconductor/branches/RELEASE_2_3/madman/Rpacks/weaver |  | Last Changed Rev: 34811 / Revision: 38965 |  | Last Changed Date: 2008-10-21 15:32:58 -0700 (Tue, 21 Oct 2008) |  
  | wilson2  | Linux (openSUSE 11.1) / x86_64  |  OK  |  OK  |  | 
| liverpool  | Windows Server 2003 R2 (32-bit) / x64  |  OK  |  OK  | [ OK ] | 
| pitt  | Mac OS X Tiger (10.4.11) / i386  |  OK  |  OK  |  OK  | 
| pelham  | Mac OS X Leopard (10.5.6) / i386  |  OK  |  OK  |  OK  | 
installing R.css in E:/biocbld/bbs-2.3-bioc/meat/weaver.buildbin-libdir
Using auto-selected zip options ''
---------- Making package weaver ------------
  adding build stamp to DESCRIPTION
  installing R files
  installing inst files
  preparing package weaver for lazy loading
Loading required package: digest
Loading required package: tools
Loading required package: codetools
  installing man source files
  installing indices
  installing help
 >>> Building/Updating help pages for package 'weaver'
     Formats: text html latex example chm 
  internal                          text    html    latex           chm
  weaver                            text    html    latex   example chm
Microsoft HTML Help Compiler 4.74.8702
Compiling e:\biocbld\bbs-2.3-bioc\meat\R.INSTALL.4752\weaver\chm\weaver.chm
Compile time: 0 minutes, 0 seconds
3	Topics
23	Local links
1	Internet link
1	Graphic
Created e:\biocbld\bbs-2.3-bioc\meat\R.INSTALL.4752\weaver\chm\weaver.chm, 22,059 bytes
Compression increased file by 1,056 bytes.
  adding MD5 sums
packaged installation of package 'weaver' as weaver_1.8.0.zip
* DONE (weaver)