| splots 1.8.0 Oleg Sklyar
 
 | Bioconductor Changelog |  | Snapshot Date: 2009-04-18 11:27:48 -0700 (Sat, 18 Apr 2009) |  | URL: https://hedgehog.fhcrc.org/bioconductor/branches/RELEASE_2_3/madman/Rpacks/splots |  | Last Changed Rev: 34811 / Revision: 38965 |  | Last Changed Date: 2008-10-21 15:32:58 -0700 (Tue, 21 Oct 2008) | 
 | wilson2 | Linux (openSUSE 11.1) / x86_64 | OK | OK |  | 
| liverpool | Windows Server 2003 R2 (32-bit) / x64 | [ OK ] | OK | OK | 
| pitt | Mac OS X Tiger (10.4.11) / i386 | OK | OK | OK | 
| pelham | Mac OS X Leopard (10.5.6) / i386 | OK | OK | OK | 
* checking for file 'splots/DESCRIPTION' ... OK
* preparing 'splots':
* checking DESCRIPTION meta-information ... OK
* installing the package to re-build vignettes
installing R.css in E:/biocbld/bbs-2.3-bioc/tmpdir/Rinst518467669
---------- Making package splots ------------
  adding build stamp to DESCRIPTION
  installing NAMESPACE file and metadata
  installing R files
  installing inst files
  preparing package splots for lazy loading
Loading required package: grid
  installing man source files
  installing indices
  installing help
 >>> Building/Updating help pages for package 'splots'
     Formats: text html latex example chm 
  plotScreen                        text    html    latex   example chm
Microsoft HTML Help Compiler 4.74.8702
Compiling e:\biocbld\bbs-2.3-bioc\meat\splots\chm\splots.chm
Compile time: 0 minutes, 14 seconds
2	Topics
2	Local links
0	Internet links
1	Graphic
Created e:\biocbld\bbs-2.3-bioc\meat\splots\chm\splots.chm, 17,971 bytes
Compression increased file by 8,641 bytes.
  adding MD5 sums
* DONE (splots)
* creating vignettes ... OK
* removing junk files
* checking for LF line-endings in source and make files
* checking for empty or unneeded directories
* building 'splots_1.8.0.tar.gz'