safe 2.2.0 William T. Barry
 | Bioconductor Changelog |  | Snapshot Date: 2009-04-18 11:27:48 -0700 (Sat, 18 Apr 2009) |  | URL: https://hedgehog.fhcrc.org/bioconductor/branches/RELEASE_2_3/madman/Rpacks/safe |  | Last Changed Rev: 34811 / Revision: 38965 |  | Last Changed Date: 2008-10-21 15:32:58 -0700 (Tue, 21 Oct 2008) |  
  | wilson2  | Linux (openSUSE 11.1) / x86_64  |  OK  |  OK  |  | 
| liverpool  | Windows Server 2003 R2 (32-bit) / x64  |  OK  |  OK  |  OK  | 
| pitt  | Mac OS X Tiger (10.4.11) / i386  | [ OK ] |  OK  |  OK  | 
| pelham  | Mac OS X Leopard (10.5.6) / i386  |  OK  |  OK  |  OK  | 
* checking for file 'safe/DESCRIPTION' ... OK
* preparing 'safe':
* checking DESCRIPTION meta-information ... OK
* installing the package to re-build vignettes
* Installing *source* package 'safe' ...
** R
** inst
** preparing package for lazy loading
Loading required package: SparseM
Package SparseM (0.79) loaded.  To cite, see citation("SparseM")
Attaching package: 'SparseM'
	The following object(s) are masked from package:stats :
	 model.response 
	The following object(s) are masked from package:base :
	 backsolve,
	 chol 
Loading required package: annotate
Loading required package: Biobase
Loading required package: tools
Welcome to Bioconductor
  Vignettes contain introductory material. To view, type
  'openVignette()'. To cite Bioconductor, see
  'citation("Biobase")' and for packages 'citation(pkgname)'.
Loading required package: AnnotationDbi
Loading required package: xtable
** help
 >>> Building/Updating help pages for package 'safe'
     Formats: text html latex example 
  SAFE-class                        text    html    latex
  gene.results                      text    html    latex
  getCmatrix                        text    html    latex   example
  safe-internal                     text    html    latex
  safe                              text    html    latex   example
  safedag                           text    html    latex
  safeplot                          text    html    latex   example
** building package indices ...
* DONE (safe)
* creating vignettes ... OK
* removing junk files
* checking for LF line-endings in source and make files
* checking for empty or unneeded directories
* building 'safe_2.2.0.tar.gz'