| pkgDepTools 1.8.0 Seth Falcon
 
 | Bioconductor Changelog |  | Snapshot Date: 2009-04-18 11:27:48 -0700 (Sat, 18 Apr 2009) |  | URL: https://hedgehog.fhcrc.org/bioconductor/branches/RELEASE_2_3/madman/Rpacks/pkgDepTools |  | Last Changed Rev: 34811 / Revision: 38965 |  | Last Changed Date: 2008-10-21 15:32:58 -0700 (Tue, 21 Oct 2008) | 
 | wilson2 | Linux (openSUSE 11.1) / x86_64 | OK | OK |  | 
| liverpool | Windows Server 2003 R2 (32-bit) / x64 | OK | OK | [ OK ] | 
| pitt | Mac OS X Tiger (10.4.11) / i386 | OK | OK | OK | 
| pelham | Mac OS X Leopard (10.5.6) / i386 | OK | OK | OK | 
installing R.css in E:/biocbld/bbs-2.3-bioc/meat/pkgDepTools.buildbin-libdir
Using auto-selected zip options ''
---------- Making package pkgDepTools ------------
  adding build stamp to DESCRIPTION
  installing NAMESPACE file and metadata
  installing R files
  installing inst files
  preparing package pkgDepTools for lazy loading
Loading required package: graph
Loading required package: RBGL
  installing man source files
  installing indices
  installing help
 >>> Building/Updating help pages for package 'pkgDepTools'
     Formats: text html latex example chm 
  basicInstallOrder                 text    html    latex           chm
  cleanPkgField                     text    html    latex           chm
  getDownloadSize                   text    html    latex           chm
  getInstallOrder                   text    html    latex           chm
  makeDepGraph                      text    html    latex   example chm
  makePkgUrl                        text    html    latex           chm
  parseContentLength                text    html    latex           chm
  pkgDepTools-package               text    html    latex           chm
Microsoft HTML Help Compiler 4.74.8702
Compiling e:\biocbld\bbs-2.3-bioc\meat\R.INSTALL.3300\pkgDepTools\chm\pkgDepTools.chm
Compile time: 0 minutes, 1 second
9	Topics
17	Local links
0	Internet links
1	Graphic
Created e:\biocbld\bbs-2.3-bioc\meat\R.INSTALL.3300\pkgDepTools\chm\pkgDepTools.chm, 22,010 bytes
Compression decreased file by 810 bytes.
  adding MD5 sums
packaged installation of package 'pkgDepTools' as pkgDepTools_1.8.0.zip
* DONE (pkgDepTools)