| pdInfoBuilder 1.6.0 Benilton Carvalho
 
 | Bioconductor Changelog |  | Snapshot Date: 2009-04-18 11:27:48 -0700 (Sat, 18 Apr 2009) |  | URL: https://hedgehog.fhcrc.org/bioconductor/branches/RELEASE_2_3/madman/Rpacks/pdInfoBuilder |  | Last Changed Rev: 34811 / Revision: 38965 |  | Last Changed Date: 2008-10-21 15:32:58 -0700 (Tue, 21 Oct 2008) | 
 | wilson2 | Linux (openSUSE 11.1) / x86_64 | OK | OK |  | 
| liverpool | Windows Server 2003 R2 (32-bit) / x64 | OK | OK | OK | 
| pitt | Mac OS X Tiger (10.4.11) / i386 | OK | OK | OK | 
| pelham | Mac OS X Leopard (10.5.6) / i386 | OK | OK | [ OK ] | 
                INSTALLATION WITH 'R CMD INSTALL --library=pdInfoBuilder.buildbin-libdir pdInfoBuilder_1.6.0.tar.gz'
* Installing *source* package 'pdInfoBuilder' ...
** libs
** arch - i386
gcc-4.2 -arch i386 -std=gnu99 -I/Library/Frameworks/R.framework/Versions/2.8/Resources/include -I/Library/Frameworks/R.framework/Versions/2.8/Resources/include/i386  -I/usr/local/include    -fPIC  -g -O2 -Wall -c pdInfoBuilder.c -o pdInfoBuilder.o
gcc-4.2 -arch i386 -std=gnu99 -dynamiclib -Wl,-headerpad_max_install_names  -undefined dynamic_lookup -single_module -multiply_defined suppress -L/usr/local/lib -o pdInfoBuilder.so pdInfoBuilder.o   -F/Library/Frameworks/R.framework/.. -framework R -Wl,-framework -Wl,CoreFoundation
** arch - ppc
gcc-4.2 -arch ppc -std=gnu99 -I/Library/Frameworks/R.framework/Versions/2.8/Resources/include -I/Library/Frameworks/R.framework/Versions/2.8/Resources/include/ppc  -I/usr/local/include    -fPIC  -g -O2 -Wall -c pdInfoBuilder.c -o pdInfoBuilder.o
gcc-4.2 -arch ppc -std=gnu99 -dynamiclib -Wl,-headerpad_max_install_names  -undefined dynamic_lookup -single_module -multiply_defined suppress -L/usr/local/lib -o pdInfoBuilder.so pdInfoBuilder.o   -F/Library/Frameworks/R.framework/.. -framework R -Wl,-framework -Wl,CoreFoundation
** arch - ppc64
gcc-4.2 -arch ppc64 -std=gnu99 -I/Library/Frameworks/R.framework/Versions/2.8/Resources/include -I/Library/Frameworks/R.framework/Versions/2.8/Resources/include/ppc64  -I/usr/local/include    -fPIC  -g -O2 -Wall -c pdInfoBuilder.c -o pdInfoBuilder.o
gcc-4.2 -arch ppc64 -std=gnu99 -dynamiclib -Wl,-headerpad_max_install_names  -undefined dynamic_lookup -single_module -multiply_defined suppress -L/usr/local/lib -o pdInfoBuilder.so pdInfoBuilder.o   -L/Library/Frameworks/R.framework/Versions/2.8/Resources/lib/ppc64 -lR -dylib_file libRblas.dylib:/Library/Frameworks/R.framework/Versions/2.8/Resources/lib/ppc64/libRblas.dylib -Wl,-framework -Wl,CoreFoundation
** arch - x86_64
gcc-4.2 -arch x86_64 -std=gnu99 -I/Library/Frameworks/R.framework/Versions/2.8/Resources/include -I/Library/Frameworks/R.framework/Versions/2.8/Resources/include/x86_64  -I/usr/local/include    -fPIC  -g -O2 -Wall -c pdInfoBuilder.c -o pdInfoBuilder.o
gcc-4.2 -arch x86_64 -std=gnu99 -dynamiclib -Wl,-headerpad_max_install_names  -undefined dynamic_lookup -single_module -multiply_defined suppress -L/usr/local/lib -o pdInfoBuilder.so pdInfoBuilder.o   -F/Library/Frameworks/R.framework/.. -framework R -Wl,-framework -Wl,CoreFoundation
** R
** inst
** preparing package for lazy loading
Loading required package: Biobase
Loading required package: tools
Welcome to Bioconductor
  Vignettes contain introductory material. To view, type
  'openVignette()'. To cite Bioconductor, see
  'citation("Biobase")' and for packages 'citation(pkgname)'.
Loading required package: RSQLite
Loading required package: DBI
Loading required package: affxparser
Loading required package: oligo
Loading required package: splines
Loading required package: preprocessCore
Loading required package: AnnotationDbi
Loading required package: oligoClasses
oligo Package - Series 1.5.x
** help
 >>> Building/Updating help pages for package 'pdInfoBuilder'
     Formats: text html latex example 
  AffyExpressionPDInfoPkgSeed-class text    html    latex   example
  AffyGeneSTPDInfoPkgSeed-class     text    html    latex   example
  AffySNPCNVPDInfoPkgSeed-class     text    html    latex   example
  AffySNPPDInfoPkgSeed-class        text    html    latex   example
  AffyTilingPDInfoPkgSeed-class     text    html    latex   example
  NgsExpressionPDInfoPkgSeed-class  text    html    latex   example
  NgsPDInfoPkgSeed-class            text    html    latex   example
  NgsTilingPDInfoPkgSeed-class      text    html    latex   example
  PDInfoPkgSeed-class               text    html    latex   example
  PkgSeed-class                     text    html    latex   example
  chipName                          text    html    latex
  makePdInfoPackage                 text    html    latex   example
** building package indices ...
* DONE (pdInfoBuilder)