| pcot2 1.10.0 Sarah Song
 
 | Bioconductor Changelog |  | Snapshot Date: 2009-04-18 11:27:48 -0700 (Sat, 18 Apr 2009) |  | URL: https://hedgehog.fhcrc.org/bioconductor/branches/RELEASE_2_3/madman/Rpacks/pcot2 |  | Last Changed Rev: 34811 / Revision: 38965 |  | Last Changed Date: 2008-10-21 15:32:58 -0700 (Tue, 21 Oct 2008) | 
 | wilson2 | Linux (openSUSE 11.1) / x86_64 | OK | OK |  | 
| liverpool | Windows Server 2003 R2 (32-bit) / x64 | OK | OK | OK | 
| pitt | Mac OS X Tiger (10.4.11) / i386 | OK | OK | [ OK ] | 
| pelham | Mac OS X Leopard (10.5.6) / i386 | OK | OK | OK | 
                INSTALLATION WITH 'R CMD INSTALL --library=pcot2.buildbin-libdir pcot2_1.10.0.tar.gz'
* Installing *source* package 'pcot2' ...
** R
** inst
** preparing package for lazy loading
Loading required package: Biobase
Loading required package: tools
Welcome to Bioconductor
  Vignettes contain introductory material. To view, type
  'openVignette()'. To cite Bioconductor, see
  'citation("Biobase")' and for packages 'citation(pkgname)'.
Loading required package: amap
** help
 >>> Building/Updating help pages for package 'pcot2'
     Formats: text html latex example 
  aveProbe                          text    html    latex   example
Note: removing empty section \note in file 'corplot.Rd'
  corplot                           text    html    latex   example
  corplot2                          text    html    latex   example
  getImat                           text    html    latex   example
  pcot2-internal                    text    html    latex
  pcot2                             text    html    latex   example
** building package indices ...
* DONE (pcot2)