microRNA 1.0.0 Robert Gentleman
 | Bioconductor Changelog |  | Snapshot Date: 2009-04-18 11:27:48 -0700 (Sat, 18 Apr 2009) |  | URL: https://hedgehog.fhcrc.org/bioconductor/branches/RELEASE_2_3/madman/Rpacks/microRNA |  | Last Changed Rev: 34811 / Revision: 38965 |  | Last Changed Date: 2008-10-21 15:32:58 -0700 (Tue, 21 Oct 2008) |  
  | wilson2  | Linux (openSUSE 11.1) / x86_64  |  OK  |  OK  |  | 
| liverpool  | Windows Server 2003 R2 (32-bit) / x64  |  OK  |  OK  |  OK  | 
| pitt  | Mac OS X Tiger (10.4.11) / i386  |  OK  |  OK  |  OK  | 
| pelham  | Mac OS X Leopard (10.5.6) / i386  |  OK  |  OK  | [ OK ] | 
                INSTALLATION WITH 'R CMD INSTALL --library=microRNA.buildbin-libdir microRNA_1.0.0.tar.gz'
* Installing *source* package 'microRNA' ...
** R
** data
** inst
** preparing package for lazy loading
Loading required package: matchprobes
Loading required package: Biobase
Loading required package: tools
Welcome to Bioconductor
  Vignettes contain introductory material. To view, type
  'openVignette()'. To cite Bioconductor, see
  'citation("Biobase")' and for packages 'citation(pkgname)'.
Loading required package: affy
Loading required package: Rlibstree
** help
 >>> Building/Updating help pages for package 'microRNA'
     Formats: text html latex example 
  RNA2DNA                           text    html    latex   example
Note: ignoring empty \keyword entries in file 'get_selfhyb_subseq.Rd'
  get_selfhyb_subseq                text    html    latex   example
  hsSeqs                            text    html    latex   example
  hsTargets                         text    html    latex   example
  matchSeeds                        text    html    latex   example
  mmSeqs                            text    html    latex   example
  mmTargets                         text    html    latex   example
  s3utr                             text    html    latex   example
  seedRegions                       text    html    latex   example
** building package indices ...
* DONE (microRNA)