| maSigPro 1.14.0 Ana Conesa
 
 | Bioconductor Changelog |  | Snapshot Date: 2009-04-18 11:27:48 -0700 (Sat, 18 Apr 2009) |  | URL: https://hedgehog.fhcrc.org/bioconductor/branches/RELEASE_2_3/madman/Rpacks/maSigPro |  | Last Changed Rev: 34811 / Revision: 38965 |  | Last Changed Date: 2008-10-21 15:32:58 -0700 (Tue, 21 Oct 2008) | 
 | wilson2 | Linux (openSUSE 11.1) / x86_64 | OK | ERROR |  | 
| liverpool | Windows Server 2003 R2 (32-bit) / x64 | OK | OK | OK | 
| pitt | Mac OS X Tiger (10.4.11) / i386 | OK | OK | OK | 
| pelham | Mac OS X Leopard (10.5.6) / i386 | OK | ERROR | [ OK ] | 
                INSTALLATION WITH 'R CMD INSTALL --library=maSigPro.buildbin-libdir maSigPro_1.14.0.tar.gz'
* Installing *source* package 'maSigPro' ...
** R
** data
** inst
** preparing package for lazy loading
Loading required package: Biobase
Loading required package: tools
Welcome to Bioconductor
  Vignettes contain introductory material. To view, type
  'openVignette()'. To cite Bioconductor, see
  'citation("Biobase")' and for packages 'citation(pkgname)'.
** help
 >>> Building/Updating help pages for package 'maSigPro'
     Formats: text html latex example 
  PlotGroups                        text    html    latex   example
  PlotProfiles                      text    html    latex   example
  T.fit                             text    html    latex   example
  average.rows                      text    html    latex   example
  data.abiotic                      text    html    latex   example
  edesign.OD                        text    html    latex   example
  edesign.abiotic                   text    html    latex   example
  edesignCT                         text    html    latex   example
  edesignDR                         text    html    latex   example
  get.siggenes                      text    html    latex   example
  i.rank                            text    html    latex   example
  maSigPro                          text    html    latex   example
  make.design.matrix                text    html    latex   example
  p.vector                          text    html    latex   example
  position                          text    html    latex   example
  reg.coeffs                        text    html    latex   example
  see.genes                         text    html    latex   example
  stepback                          text    html    latex   example
  stepfor                           text    html    latex   example
  suma2Venn                         text    html    latex   example
  two.ways.stepback                 text    html    latex   example
  two.ways.stepfor                  text    html    latex   example
** building package indices ...
* DONE (maSigPro)