| logitT 1.0.0 Tobias Guennel
 
 | Bioconductor Changelog |  | Snapshot Date: 2009-04-18 11:27:48 -0700 (Sat, 18 Apr 2009) |  | URL: https://hedgehog.fhcrc.org/bioconductor/branches/RELEASE_2_3/madman/Rpacks/logitT |  | Last Changed Rev: 34811 / Revision: 38965 |  | Last Changed Date: 2008-10-21 15:32:58 -0700 (Tue, 21 Oct 2008) | 
 | wilson2 | Linux (openSUSE 11.1) / x86_64 | OK | OK |  | 
| liverpool | Windows Server 2003 R2 (32-bit) / x64 | OK | OK | [ OK ] | 
| pitt | Mac OS X Tiger (10.4.11) / i386 | OK | OK | OK | 
| pelham | Mac OS X Leopard (10.5.6) / i386 | OK | OK | OK | 
installing R.css in E:/biocbld/bbs-2.3-bioc/meat/logitT.buildbin-libdir
Using auto-selected zip options ''
---------- Making package logitT ------------
  adding build stamp to DESCRIPTION
  installing NAMESPACE file and metadata
  making DLL ...
making logitTfunc.d from logitTfunc.c
gcc  -std=gnu99  -IE:/biocbld/bbs-2.3-bioc/R/include     -O3 -Wall  -c logitTfunc.c -o logitTfunc.o
windres --preprocessor="gcc -E -xc -DRC_INVOKED" -I E:/biocbld/bbs-2.3-bioc/R/include  -i logitT_res.rc -o logitT_res.o
gcc  -std=gnu99  -shared -s  -o logitT.dll logitT.def logitTfunc.o logitT_res.o  -LE:/biocbld/bbs-2.3-bioc/R/bin    -lR
  ... DLL made
  installing DLL
  installing R files
  installing inst files
  preparing package logitT for lazy loading
Loading required package: affy
Loading required package: Biobase
Loading required package: tools
Welcome to Bioconductor
  Vignettes contain introductory material. To view, type
  'openVignette()'. To cite Bioconductor, see
  'citation("Biobase")' and for packages 'citation(pkgname)'.
  installing man source files
  installing indices
  installing help
 >>> Building/Updating help pages for package 'logitT'
     Formats: text html latex example chm 
  logitTAffy                        text    html    latex   example chm
Microsoft HTML Help Compiler 4.74.8702
Compiling e:\biocbld\bbs-2.3-bioc\meat\R.INSTALL.4712\logitT\chm\logitT.chm
Compile time: 0 minutes, 2 seconds
2	Topics
2	Local links
0	Internet links
1	Graphic
Created e:\biocbld\bbs-2.3-bioc\meat\R.INSTALL.4712\logitT\chm\logitT.chm, 17,203 bytes
Compression increased file by 8,659 bytes.
  adding MD5 sums
packaged installation of package 'logitT' as logitT_1.0.0.zip
* DONE (logitT)