fdrame 1.14.0 Effi Kenigsberg
 | Bioconductor Changelog |  | Snapshot Date: 2009-04-18 11:27:48 -0700 (Sat, 18 Apr 2009) |  | URL: https://hedgehog.fhcrc.org/bioconductor/branches/RELEASE_2_3/madman/Rpacks/fdrame |  | Last Changed Rev: 34811 / Revision: 38965 |  | Last Changed Date: 2008-10-21 15:32:58 -0700 (Tue, 21 Oct 2008) |  
  | wilson2  | Linux (openSUSE 11.1) / x86_64  |  OK  |  OK  |  | 
| liverpool  | Windows Server 2003 R2 (32-bit) / x64  |  OK  |  OK  |  OK  | 
| pitt  | Mac OS X Tiger (10.4.11) / i386  | [ OK ] |  OK  |  OK  | 
| pelham  | Mac OS X Leopard (10.5.6) / i386  |  OK  |  OK  |  OK  | 
* checking for file 'fdrame/DESCRIPTION' ... OK
* preparing 'fdrame':
* checking DESCRIPTION meta-information ... OK
* cleaning src
* installing the package to re-build vignettes
* Installing *source* package 'fdrame' ...
** libs
** arch - i386
gcc -arch i386 -std=gnu99 -I/Library/Frameworks/R.framework/Versions/2.8/Resources/include -I/Library/Frameworks/R.framework/Versions/2.8/Resources/include/i386  -I/usr/local/include    -fPIC  -g -O2 -c fdr.c -o fdr.o
gcc -arch i386 -std=gnu99 -dynamiclib -Wl,-headerpad_max_install_names -mmacosx-version-min=10.4 -undefined dynamic_lookup -single_module -multiply_defined suppress -L/usr/local/lib -o fdrame.so fdr.o   -F/Library/Frameworks/R.framework/.. -framework R -Wl,-framework -Wl,CoreFoundation
** arch - ppc
gcc -arch ppc -std=gnu99 -I/Library/Frameworks/R.framework/Versions/2.8/Resources/include -I/Library/Frameworks/R.framework/Versions/2.8/Resources/include/ppc  -I/usr/local/include    -fPIC  -g -O2 -c fdr.c -o fdr.o
gcc -arch ppc -std=gnu99 -dynamiclib -Wl,-headerpad_max_install_names -mmacosx-version-min=10.4 -undefined dynamic_lookup -single_module -multiply_defined suppress -L/usr/local/lib -o fdrame.so fdr.o   -F/Library/Frameworks/R.framework/.. -framework R -Wl,-framework -Wl,CoreFoundation
** R
** data
** inst
** preparing package for lazy loading
Loading required package: tcltk
Loading Tcl/Tk interface ... done
** help
 >>> Building/Updating help pages for package 'fdrame'
     Formats: text html latex example 
  design                            text    html    latex   example
  exp.arr                           text    html    latex   example
  fdr-internal                      text    html    latex
  fdrgui                            text    html    latex   example
  fdrma                             text    html    latex   example
** building package indices ...
* DONE (fdrame)
* creating vignettes ... OK
* cleaning src
* removing junk files
* checking for LF line-endings in source and make files
* checking for empty or unneeded directories
WARNING: Removing directory 'fdrame/html' which should only occur in an
  installed package
* building 'fdrame_1.14.0.tar.gz'