| domainsignatures 1.2.0 Florian Hahne
 
 | Bioconductor Changelog |  | Snapshot Date: 2009-04-18 11:27:48 -0700 (Sat, 18 Apr 2009) |  | URL: https://hedgehog.fhcrc.org/bioconductor/branches/RELEASE_2_3/madman/Rpacks/domainsignatures |  | Last Changed Rev: 34811 / Revision: 38965 |  | Last Changed Date: 2008-10-21 15:32:58 -0700 (Tue, 21 Oct 2008) | 
 | wilson2 | Linux (openSUSE 11.1) / x86_64 | OK | OK |  | 
| liverpool | Windows Server 2003 R2 (32-bit) / x64 | OK | OK | [ OK ] | 
| pitt | Mac OS X Tiger (10.4.11) / i386 | OK | OK | OK | 
| pelham | Mac OS X Leopard (10.5.6) / i386 | OK | OK | OK | 
installing R.css in E:/biocbld/bbs-2.3-bioc/meat/domainsignatures.buildbin-libdir
Using auto-selected zip options ''
---------- Making package domainsignatures ------------
  adding build stamp to DESCRIPTION
  installing NAMESPACE file and metadata
  installing R files
  installing inst files
  preparing package domainsignatures for lazy loading
Loading required package: KEGG.db
Loading required package: AnnotationDbi
Loading required package: Biobase
Loading required package: tools
Welcome to Bioconductor
  Vignettes contain introductory material. To view, type
  'openVignette()'. To cite Bioconductor, see
  'citation("Biobase")' and for packages 'citation(pkgname)'.
Loading required package: DBI
Loading required package: prada
Loading required package: RColorBrewer
Loading required package: grid
Loading required package: rrcov
Loading required package: robustbase
Loading required package: pcaPP
Loading required package: mvtnorm
KernSmooth 2.22 installed
Copyright M. P. Wand 1997
Loading required package: biomaRt
  installing man source files
  installing indices
  installing help
 >>> Building/Updating help pages for package 'domainsignatures'
     Formats: text html latex example chm 
  dataSource                        text    html    latex   example chm
  domainsignatures-package          text    html    latex           chm
  getKEGGdata                       text    html    latex   example chm
  getKEGGdescription                text    html    latex   example chm
  gseDomain                         text    html    latex   example chm
  ipDataSource-class                text    html    latex           chm
Microsoft HTML Help Compiler 4.74.8702
Compiling e:\biocbld\bbs-2.3-bioc\meat\R.INSTALL.1404\domainsignatures\chm\domainsignatures.chm
Compile time: 0 minutes, 2 seconds
7	Topics
30	Local links
0	Internet links
1	Graphic
Created e:\biocbld\bbs-2.3-bioc\meat\R.INSTALL.1404\domainsignatures\chm\domainsignatures.chm, 20,851 bytes
Compression decreased file by 806 bytes.
  adding MD5 sums
packaged installation of package 'domainsignatures' as domainsignatures_1.2.0.zip
* DONE (domainsignatures)