| biocViews 1.10.6 Biocore Team c/o BioC user list
 
 | Bioconductor Changelog |  | Snapshot Date: 2009-04-18 11:27:48 -0700 (Sat, 18 Apr 2009) |  | URL: https://hedgehog.fhcrc.org/bioconductor/branches/RELEASE_2_3/madman/Rpacks/biocViews |  | Last Changed Rev: 37909 / Revision: 38965 |  | Last Changed Date: 2009-03-11 12:27:16 -0700 (Wed, 11 Mar 2009) | 
 | wilson2 | Linux (openSUSE 11.1) / x86_64 | [ OK ] | OK |  | 
| liverpool | Windows Server 2003 R2 (32-bit) / x64 | OK | OK | OK | 
| pitt | Mac OS X Tiger (10.4.11) / i386 | OK | OK | OK | 
| pelham | Mac OS X Leopard (10.5.6) / i386 | OK | OK | OK | 
* checking for file 'biocViews/DESCRIPTION' ... OK
* preparing 'biocViews':
* checking DESCRIPTION meta-information ... OK
* installing the package to re-build vignettes
* Installing *source* package 'biocViews' ...
** R
** data
** inst
** preparing package for lazy loading
** help
 >>> Building/Updating help pages for package 'biocViews'
     Formats: text html latex example 
  BiocView-class                    text    html    latex
  Htmlized-class                    text    html    latex
  PackageDetail-class               text    html    latex   example
  RepositoryDetail-class            text    html    latex
  biocViews-package                 text    html    latex   example
  biocViewsVocab                    text    html    latex   example
  extractManuals                    text    html    latex
  extractVignettes                  text    html    latex
  genReposControlFiles              text    html    latex
  getBiocSubViews                   text    html    latex   example
  getBiocViews                      text    html    latex   example
  getPacksAndViews                  text    html    latex
  getSubTerms                       text    html    latex   example
  htmlDoc                           text    html    latex
  htmlFilename                      text    html    latex
  htmlValue                         text    html    latex
  writeBiocViews                    text    html    latex
  writeHtmlDoc                      text    html    latex
  writePackageDetailHtml            text    html    latex
  writeRepositoryHtml               text    html    latex
  writeTopLevelView                 text    html    latex
  write_REPOSITORY                  text    html    latex
  write_SYMBOLS                     text    html    latex
  write_VIEWS                       text    html    latex
** building package indices ...
* DONE (biocViews)
* creating vignettes ... OK
* removing junk files
* checking for LF line-endings in source and make files
* checking for empty or unneeded directories
* building 'biocViews_1.10.6.tar.gz'