| beadarraySNP 1.8.0 Jan Oosting
 
 | Bioconductor Changelog |  | Snapshot Date: 2009-04-18 11:27:48 -0700 (Sat, 18 Apr 2009) |  | URL: https://hedgehog.fhcrc.org/bioconductor/branches/RELEASE_2_3/madman/Rpacks/beadarraySNP |  | Last Changed Rev: 34811 / Revision: 38965 |  | Last Changed Date: 2008-10-21 15:32:58 -0700 (Tue, 21 Oct 2008) | 
 | wilson2 | Linux (openSUSE 11.1) / x86_64 | OK | OK |  | 
| liverpool | Windows Server 2003 R2 (32-bit) / x64 | OK | [ OK ] | OK | 
| pitt | Mac OS X Tiger (10.4.11) / i386 | OK | OK | OK | 
| pelham | Mac OS X Leopard (10.5.6) / i386 | OK | OK | OK | 
* checking for working pdflatex ... OK
* using log directory 'E:/biocbld/bbs-2.3-bioc/meat/beadarraySNP.Rcheck'
* using R version 2.8.1 (2008-12-22)
* using session charset: ISO8859-1
* checking for file 'beadarraySNP/DESCRIPTION' ... OK
* checking extension type ... Package
* this is package 'beadarraySNP' version '1.8.0'
* checking package name space information ... OK
* checking package dependencies ... OK
* checking if this is a source package ... OK
* checking whether package 'beadarraySNP' can be installed ... OK
* checking package directory ... OK
* checking for portable file names ... OK
* checking DESCRIPTION meta-information ... OK
* checking top-level files ... OK
* checking index information ... OK
* checking package subdirectories ... OK
* checking R files for non-ASCII characters ... OK
* checking R files for syntax errors ... OK
* checking whether the package can be loaded ... OK
* checking whether the package can be loaded with stated dependencies ... OK
* checking whether the name space can be loaded with stated dependencies ... OK
* checking for unstated dependencies in R code ... OK
* checking S3 generic/method consistency ... OK
* checking replacement functions ... OK
* checking foreign function calls ... OK
* checking R code for possible problems ... OK
* checking Rd files ... OK
* checking Rd cross-references ... OK
* checking for missing documentation entries ... OK
* checking for code/documentation mismatches ... OK
* checking Rd \usage sections ... OK
* checking data for non-ASCII characters ... OK
* creating beadarraySNP-Ex.R ... OK
* checking examples ... OK
* checking package vignettes in 'inst/doc' ... OK
* creating beadarraySNP-manual.tex ... OK
* checking beadarraySNP-manual.tex using pdflatex ... OK
 
installing R.css in E:/biocbld/bbs-2.3-bioc/meat/beadarraySNP.Rcheck
---------- Making package beadarraySNP ------------
  adding build stamp to DESCRIPTION
  installing NAMESPACE file and metadata
  installing R files
  installing inst files
  installing data files
  preparing package beadarraySNP for lazy loading
Loading required package: tools
Loading required package: Biobase
Welcome to Bioconductor
  Vignettes contain introductory material. To view, type
  'openVignette()'. To cite Bioconductor, see
  'citation("Biobase")' and for packages 'citation(pkgname)'.
Loading required package: quantsmooth
Loading required package: quantreg
Loading required package: SparseM
Attaching package: 'SparseM'
	The following object(s) are masked from package:stats :
	 model.response 
	The following object(s) are masked from package:base :
	 backsolve,
	 chol 
Loading required package: lodplot
Loading required package: grid
  installing man source files
  installing indices
  not zipping data
  installing help
 >>> Building/Updating help pages for package 'beadarraySNP'
     Formats: text html latex example chm 
  BeadstudioQC                      text    html    latex           chm
  CopynumberConversion              text    html    latex           chm
  Datasets                          text    html    latex           chm
  GenomicReports                    text    html    latex   example chm
  GetBeadStudioSampleNames          text    html    latex           chm
  PolarTransforms                   text    html    latex   example chm
  QCIllumina-class                  text    html    latex           chm
  Sample_Map2Samplesheet            text    html    latex           chm
  alterCN                           text    html    latex           chm
  arrayType                         text    html    latex           chm
  backgroundCorrect.SNP             text    html    latex   example chm
  backgroundEstimate                text    html    latex           chm
  calculateLOH                      text    html    latex           chm
  calculateQCarray                  text    html    latex   example chm
  class.SnpSetIllumina              text    html    latex           chm
  compareGenotypes                  text    html    latex   example chm
  createCNSummary                   text    html    latex           chm
Note: removing empty section \examples in file 'dist.GT.Rd'
Note: removing empty section \examples in file 'dist.GT.Rd'
  dist.GT                           text    html    latex           chm
  getDNAindex                       text    html    latex           chm
  heterozygosity                    text    html    latex   example chm
  heterozygousSNPs                  text    html    latex   example chm
  interactiveCNselect               text    html    latex           chm
  normalizeBetweenAlleles.SNP       text    html    latex   example chm
  normalizeBetweenSubsamples.SNP    text    html    latex   example chm
  normalizeLoci.SNP                 text    html    latex   example chm
  normalizeWithinArrays.SNP         text    html    latex   example chm
  pdfChromosomesSmoothCopyNumber    text    html    latex   example chm
  pdfQC                             text    html    latex           chm
  plotGoldenGate4OPA                text    html    latex           chm
  plotQC                            text    html    latex   example chm
  read.SnpSetIllumina               text    html    latex   example chm
  removeLowQualityProbes            text    html    latex           chm
  removeLowQualitySamples           text    html    latex   example chm
  renameOPA                         text    html    latex           chm
  reportGenotypeSegmentation        text    html    latex           chm
  reportSamplePanelQC-methods       text    html    latex   example chm
  segmentate                        text    html    latex           chm
  setRealCN                         text    html    latex           chm
  smoothed.intensity                text    html    latex           chm
  standardNormalization             text    html    latex   example chm
Microsoft HTML Help Compiler 4.74.8702
Compiling e:\biocbld\bbs-2.3-bioc\meat\beadarraySNP.Rcheck\00_pkg_src\beadarraySNP\chm\beadarraySNP.chm
Compile time: 0 minutes, 0 seconds
41	Topics
200	Local links
0	Internet links
1	Graphic
Created e:\biocbld\bbs-2.3-bioc\meat\beadarraySNP.Rcheck\00_pkg_src\beadarraySNP\chm\beadarraySNP.chm, 58,759 bytes
Compression decreased file by 83,043 bytes.
  adding MD5 sums
* DONE (beadarraySNP)