arrayQualityMetrics 1.8.1 Audrey Kauffmann
 | Bioconductor Changelog |  | Snapshot Date: 2009-04-18 11:27:48 -0700 (Sat, 18 Apr 2009) |  | URL: https://hedgehog.fhcrc.org/bioconductor/branches/RELEASE_2_3/madman/Rpacks/arrayQualityMetrics |  | Last Changed Rev: 35144 / Revision: 38965 |  | Last Changed Date: 2008-11-07 06:57:18 -0800 (Fri, 07 Nov 2008) |  
  | wilson2  | Linux (openSUSE 11.1) / x86_64  | [ OK ] |  OK  |  | 
| liverpool  | Windows Server 2003 R2 (32-bit) / x64  |  OK  |  OK  |  OK  | 
| pitt  | Mac OS X Tiger (10.4.11) / i386  |  OK  |  OK  |  OK  | 
| pelham  | Mac OS X Leopard (10.5.6) / i386  |  OK  |  OK  |  OK  | 
* checking for file 'arrayQualityMetrics/DESCRIPTION' ... OK
* preparing 'arrayQualityMetrics':
* checking DESCRIPTION meta-information ... OK
* installing the package to re-build vignettes
* Installing *source* package 'arrayQualityMetrics' ...
** R
** inst
** preparing package for lazy loading
Loading required package: Biobase
Loading required package: tools
Welcome to Bioconductor
  Vignettes contain introductory material. To view, type
  'openVignette()'. To cite Bioconductor, see
  'citation("Biobase")' and for packages 'citation(pkgname)'.
Loading required package: geneplotter
Loading required package: lattice
Loading required package: annotate
Loading required package: AnnotationDbi
Loading required package: xtable
KernSmooth 2.22 installed
Copyright M. P. Wand 1997
Attaching package: 'geneplotter'
	The following object(s) are masked from package:lattice :
	 panel.smoothScatter 
Loading required package: genefilter
Loading required package: survival
Loading required package: splines
Loading required package: vsn
Loading required package: affy
Loading required package: limma
Loading required package: RColorBrewer
Loading required package: affyPLM
Loading required package: gcrma
Loading required package: matchprobes
Loading required package: preprocessCore
Loading required package: simpleaffy
Loading required package: latticeExtra
Loading required package: grid
Loading required package: beadarray
Loading required package: hwriter
Loading required package: sma
Attaching package: 'beadarray'
	The following object(s) are masked from package:limma :
	 backgroundCorrect,
	 imageplot,
	 plotMA 
Loading required package: marray
Attaching package: 'marray'
	The following object(s) are masked from package:sma :
	 cor.na,
	 length.na,
	 log.na,
	 mean.na,
	 order.na,
	 prod.na,
	 quantile.na,
	 scale.na,
	 stat.gnames,
	 sum.na,
	 var.na 
** help
 >>> Building/Updating help pages for package 'arrayQualityMetrics'
     Formats: text html latex example 
  XYfromGAL                         text    html    latex
  arrayQualityMetrics               text    html    latex   example
** building package indices ...
* DONE (arrayQualityMetrics)
* creating vignettes ... OK
* removing junk files
* checking for LF line-endings in source and make files
* checking for empty or unneeded directories
* building 'arrayQualityMetrics_1.8.1.tar.gz'