affypdnn 1.16.0 Laurent Gautier
 | Bioconductor Changelog |  | Snapshot Date: 2009-04-18 11:27:48 -0700 (Sat, 18 Apr 2009) |  | URL: https://hedgehog.fhcrc.org/bioconductor/branches/RELEASE_2_3/madman/Rpacks/affypdnn |  | Last Changed Rev: 34811 / Revision: 38965 |  | Last Changed Date: 2008-10-21 15:32:58 -0700 (Tue, 21 Oct 2008) |  
  | wilson2  | Linux (openSUSE 11.1) / x86_64  |  OK  |  OK  |  | 
| liverpool  | Windows Server 2003 R2 (32-bit) / x64  |  OK  |  OK  |  OK  | 
| pitt  | Mac OS X Tiger (10.4.11) / i386  |  OK  |  OK  | [ OK ] | 
| pelham  | Mac OS X Leopard (10.5.6) / i386  |  OK  |  OK  |  OK  | 
                INSTALLATION WITH 'R CMD INSTALL --library=affypdnn.buildbin-libdir affypdnn_1.16.0.tar.gz'
* Installing *source* package 'affypdnn' ...
** R
** data
** inst
** preparing package for lazy loading
Loading required package: affy
Loading required package: Biobase
Loading required package: tools
Welcome to Bioconductor
  Vignettes contain introductory material. To view, type
  'openVignette()'. To cite Bioconductor, see
  'citation("Biobase")' and for packages 'citation(pkgname)'.
** help
 >>> Building/Updating help pages for package 'affypdnn'
     Formats: text html latex example 
  chiptype.pdnn.params              text    html    latex   example
  expressopdnn                      text    html    latex   example
  find.params.pdnn                  text    html    latex   example
  generateExprVal.method.pdnn       text    html    latex   example
  matplotProbesPDNN                 text    html    latex   example
  params.dilution                   text    html    latex   example
  pdnn.params.chiptype              text    html    latex   example
  transform.ProbeSet                text    html    latex   example
** building package indices ...
* DONE (affypdnn)