| PGSEA 1.10.0 Karl Dykema
 
 | Bioconductor Changelog |  | Snapshot Date: 2009-04-18 11:27:48 -0700 (Sat, 18 Apr 2009) |  | URL: https://hedgehog.fhcrc.org/bioconductor/branches/RELEASE_2_3/madman/Rpacks/PGSEA |  | Last Changed Rev: 34811 / Revision: 38965 |  | Last Changed Date: 2008-10-21 15:32:58 -0700 (Tue, 21 Oct 2008) | 
 | wilson2 | Linux (openSUSE 11.1) / x86_64 | OK | OK |  | 
| liverpool | Windows Server 2003 R2 (32-bit) / x64 | OK | OK | OK | 
| pitt | Mac OS X Tiger (10.4.11) / i386 | OK | OK | [ OK ] | 
| pelham | Mac OS X Leopard (10.5.6) / i386 | OK | OK | OK | 
                INSTALLATION WITH 'R CMD INSTALL --library=PGSEA.buildbin-libdir PGSEA_1.10.0.tar.gz'
* Installing *source* package 'PGSEA' ...
** R
** data
** inst
** preparing package for lazy loading
Loading required package: AnnotationDbi
Loading required package: Biobase
Loading required package: tools
Welcome to Bioconductor
  Vignettes contain introductory material. To view, type
  'openVignette()'. To cite Bioconductor, see
  'citation("Biobase")' and for packages 'citation(pkgname)'.
Loading required package: Ruuid
** help
 >>> Building/Updating help pages for package 'PGSEA'
     Formats: text html latex example 
  GOLUBmcs                          text    html    latex   example
  PGSEA                             text    html    latex   example
  VAIgsc                            text    html    latex   example
  VAImcs                            text    html    latex   example
  aggregateExprs                    text    html    latex   example
  convertSmc                        text    html    latex   example
  editSmc                           text    html    latex   example
  go2smc                            text    html    latex   example
  kegg2smc                          text    html    latex   example
  nbEset                            text    html    latex   example
  readGmt                           text    html    latex   example
  readSmc                           text    html    latex   example
  scanSmc                           text    html    latex   example
  smcPlot                           text    html    latex   example
  writeGmt                          text    html    latex   example
  writeSmc                          text    html    latex   example
** building package indices ...
* DONE (PGSEA)