| MiPP 1.14.0 Sukwoo Kim
 
 | Bioconductor Changelog |  | Snapshot Date: 2009-04-18 11:27:48 -0700 (Sat, 18 Apr 2009) |  | URL: https://hedgehog.fhcrc.org/bioconductor/branches/RELEASE_2_3/madman/Rpacks/MiPP |  | Last Changed Rev: 34811 / Revision: 38965 |  | Last Changed Date: 2008-10-21 15:32:58 -0700 (Tue, 21 Oct 2008) | 
 | wilson2 | Linux (openSUSE 11.1) / x86_64 | OK | OK |  | 
| liverpool | Windows Server 2003 R2 (32-bit) / x64 | OK | OK | [ OK ] | 
| pitt | Mac OS X Tiger (10.4.11) / i386 | OK | OK | OK | 
| pelham | Mac OS X Leopard (10.5.6) / i386 | OK | OK | OK | 
installing R.css in E:/biocbld/bbs-2.3-bioc/meat/MiPP.buildbin-libdir
Using auto-selected zip options 'MiPP-ZIPDATA=zip'
---------- Making package MiPP ------------
  adding build stamp to DESCRIPTION
  installing R files
  installing inst files
  installing data files
  preparing package MiPP for lazy loading
Loading required package: Biobase
Loading required package: tools
Welcome to Bioconductor
  Vignettes contain introductory material. To view, type
  'openVignette()'. To cite Bioconductor, see
  'citation("Biobase")' and for packages 'citation(pkgname)'.
Loading required package: e1071
Loading required package: class
Loading required package: MASS
  installing man source files
  installing indices
  zipping data
  installing help
 >>> Building/Updating help pages for package 'MiPP'
     Formats: text html latex example chm 
  colon                             text    html    latex           chm
  cv.mipp.rule                      text    html    latex           chm
  get.mipp                          text    html    latex           chm
  get.mipp.lda                      text    html    latex           chm
  get.mipp.logistic                 text    html    latex           chm
  get.mipp.qda                      text    html    latex           chm
  get.mipp.svm.linear               text    html    latex           chm
  get.mipp.svm.rbf                  text    html    latex           chm
  leuk1                             text    html    latex           chm
  leuk2                             text    html    latex           chm
  leukemia                          text    html    latex           chm
  linearkernel.decision.function    text    html    latex           chm
  mipp                              text    html    latex   example chm
  mipp.preproc                      text    html    latex   example chm
  mipp.rule                         text    html    latex           chm
  mipp.seq                          text    html    latex   example chm
  pre.select                        text    html    latex           chm
  quant.normal                      text    html    latex           chm
  quant.normal2                     text    html    latex           chm
  rbfkernel.decision.function       text    html    latex           chm
Microsoft HTML Help Compiler 4.74.8702
Compiling e:\biocbld\bbs-2.3-bioc\meat\R.INSTALL.5632\MiPP\chm\MiPP.chm
Compile time: 0 minutes, 0 seconds
21	Topics
41	Local links
0	Internet links
1	Graphic
Created e:\biocbld\bbs-2.3-bioc\meat\R.INSTALL.5632\MiPP\chm\MiPP.chm, 25,359 bytes
Compression decreased file by 14,652 bytes.
  adding MD5 sums
packaged installation of package 'MiPP' as MiPP_1.14.0.zip
* DONE (MiPP)