MEDME 1.2.1 Mattia Pelizzola
 | Bioconductor Changelog |  | Snapshot Date: 2009-04-18 11:27:48 -0700 (Sat, 18 Apr 2009) |  | URL: https://hedgehog.fhcrc.org/bioconductor/branches/RELEASE_2_3/madman/Rpacks/MEDME |  | Last Changed Rev: 38579 / Revision: 38965 |  | Last Changed Date: 2009-04-07 16:27:19 -0700 (Tue, 07 Apr 2009) |  
  | wilson2  | Linux (openSUSE 11.1) / x86_64  | [ OK ] |  OK  |  | 
| liverpool  | Windows Server 2003 R2 (32-bit) / x64  |  OK  |  OK  |  OK  | 
| pitt  | Mac OS X Tiger (10.4.11) / i386  |  OK  |  OK  |  OK  | 
| pelham  | Mac OS X Leopard (10.5.6) / i386  |  OK  |  OK  |  OK  | 
* checking for file 'MEDME/DESCRIPTION' ... OK
* preparing 'MEDME':
* checking DESCRIPTION meta-information ... OK
* cleaning src
* installing the package to re-build vignettes
* Installing *source* package 'MEDME' ...
** libs
gcc -std=gnu99 -I/home/biocbuild/bbs-2.3-bioc/R/include  -I/usr/local/include    -fpic  -g -O2 -Wall -c MEDMEweight.c -o MEDMEweight.o
MEDMEweight.c: In function ‘MEDMEweight’:
MEDMEweight.c:36: warning: ‘Max’ may be used uninitialized in this function
MEDMEweight.c:36: warning: ‘Min’ may be used uninitialized in this function
MEDMEweight.c:36: warning: ‘E’ may be used uninitialized in this function
MEDMEweight.c:36: warning: ‘D’ may be used uninitialized in this function
MEDMEweight.c:36: warning: ‘C’ may be used uninitialized in this function
MEDMEweight.c:36: warning: ‘B’ may be used uninitialized in this function
MEDMEweight.c:30: warning: ‘weight’ may be used uninitialized in this function
gcc -std=gnu99 -shared -L/usr/local/lib64 -o MEDME.so MEDMEweight.o   -L/home/biocbuild/bbs-2.3-bioc/R/lib -lR
** R
** data
** inst
** preparing package for lazy loading
Loading required package: MASS
Loading required package: drc
Loading required package: alr3
Loading required package: lattice
Loading required package: magic
Loading required package: abind
Loading required package: nlme
Loading required package: plotrix
'drc' has been loaded.
Please cite R and 'drc' if used for a publication,
for references type 'citation()' and 'citation('drc')'.
** help
 >>> Building/Updating help pages for package 'MEDME'
     Formats: text html latex example 
  CGcount                           text    html    latex   example
  MEDME                             text    html    latex   example
  MEDME.readFiles                   text    html    latex
  MEDME.writeFiles                  text    html    latex
  MEDMEset-class                    text    html    latex   example
  predict                           text    html    latex   example
  smooth                            text    html    latex   example
  testMEDMEset                      text    html    latex
** building package indices ...
* DONE (MEDME)
* creating vignettes ... OK
* cleaning src
* removing junk files
* checking for LF line-endings in source and make files
* checking for empty or unneeded directories
* building 'MEDME_1.2.1.tar.gz'