| LPEadj 1.2.0 Carl Murie
 
 | Bioconductor Changelog |  | Snapshot Date: 2009-04-18 11:27:48 -0700 (Sat, 18 Apr 2009) |  | URL: https://hedgehog.fhcrc.org/bioconductor/branches/RELEASE_2_3/madman/Rpacks/LPEadj |  | Last Changed Rev: 34811 / Revision: 38965 |  | Last Changed Date: 2008-10-21 15:32:58 -0700 (Tue, 21 Oct 2008) | 
 | wilson2 | Linux (openSUSE 11.1) / x86_64 | OK | OK |  | 
| liverpool | Windows Server 2003 R2 (32-bit) / x64 | OK | OK | OK | 
| pitt | Mac OS X Tiger (10.4.11) / i386 | [ OK ] | OK | OK | 
| pelham | Mac OS X Leopard (10.5.6) / i386 | OK | OK | OK | 
* checking for file 'LPEadj/DESCRIPTION' ... OK
* preparing 'LPEadj':
* checking DESCRIPTION meta-information ... OK
* installing the package to re-build vignettes
* Installing *source* package 'LPEadj' ...
** R
** inst
** preparing package for lazy loading
Loading required package: LPE
** help
 >>> Building/Updating help pages for package 'LPEadj'
     Formats: text html latex example 
  adjBaseOlig.error                 text    html    latex   example
  adjBaseOlig.error.step1           text    html    latex   example
  adjBaseOlig.error.step2           text    html    latex   example
  calculateLpeAdj                   text    html    latex   example
  getCols                           text    html    latex
  lpeAdj                            text    html    latex   example
** building package indices ...
* DONE (LPEadj)
* creating vignettes ... OK
* removing junk files
* checking for LF line-endings in source and make files
* checking for empty or unneeded directories
* building 'LPEadj_1.2.0.tar.gz'