| GeneticsPed 1.4.0 The R Genetics Project
 
 | Bioconductor Changelog |  | Snapshot Date: 2009-04-18 11:27:48 -0700 (Sat, 18 Apr 2009) |  | URL: https://hedgehog.fhcrc.org/bioconductor/branches/RELEASE_2_3/madman/Rpacks/GeneticsPed |  | Last Changed Rev: 34958 / Revision: 38965 |  | Last Changed Date: 2008-10-28 14:19:01 -0700 (Tue, 28 Oct 2008) | 
 | wilson2 | Linux (openSUSE 11.1) / x86_64 | OK | OK |  | 
| liverpool | Windows Server 2003 R2 (32-bit) / x64 | [ OK ] | OK | OK | 
| pitt | Mac OS X Tiger (10.4.11) / i386 | OK | OK | OK | 
| pelham | Mac OS X Leopard (10.5.6) / i386 | OK | OK | OK | 
* checking for file 'GeneticsPed/DESCRIPTION' ... OK
* preparing 'GeneticsPed':
* checking DESCRIPTION meta-information ... OK
* cleaning src
* installing the package to re-build vignettes
installing R.css in E:/biocbld/bbs-2.3-bioc/tmpdir/Rinst72004418
---------- Making package GeneticsPed ------------
  adding build stamp to DESCRIPTION
  installing NAMESPACE file and metadata
  making DLL ...
making sargolzaei.d from sargolzaei.c
making ainverse.d from ainverse.cc
making eibd.d from eibd.cc
making inbreed.d from inbreed.cc
making inverseAdditive.d from inverseAdditive.cc
making meuwissen.d from meuwissen.cc
making pedSort.d from pedSort.cc
making pedtemplate.d from pedtemplate.cc
making register.d from register.cc
making sortped.d from sortped.cc
gcc  -std=gnu99  -Ie:/biocbld/bbs-2.3-bioc/R/include     -O3 -Wall  -c sargolzaei.c -o sargolzaei.o
sargolzaei.c: In function 'sargolzaei':
sargolzaei.c:96: warning: comparison between pointer and integer
sargolzaei.c:19: warning: 'S' may be used uninitialized in this function
sargolzaei.c:19: warning: 'MIP' may be used uninitialized in this function
gfortran   -O3  -c ggmatmult.f -o ggmatmult.o
gfortran   -O3  -c gpi.f -o gpi.o
g++   -Ie:/biocbld/bbs-2.3-bioc/R/include     -O2 -Wall  -c ainverse.cc -o ainverse.o
g++   -Ie:/biocbld/bbs-2.3-bioc/R/include     -O2 -Wall  -c eibd.cc -o eibd.o
g++   -Ie:/biocbld/bbs-2.3-bioc/R/include     -O2 -Wall  -c inbreed.cc -o inbreed.o
g++   -Ie:/biocbld/bbs-2.3-bioc/R/include     -O2 -Wall  -c inverseAdditive.cc -o inverseAdditive.o
g++   -Ie:/biocbld/bbs-2.3-bioc/R/include     -O2 -Wall  -c meuwissen.cc -o meuwissen.o
g++   -Ie:/biocbld/bbs-2.3-bioc/R/include     -O2 -Wall  -c pedSort.cc -o pedSort.o
g++   -Ie:/biocbld/bbs-2.3-bioc/R/include     -O2 -Wall  -c pedtemplate.cc -o pedtemplate.o
g++   -Ie:/biocbld/bbs-2.3-bioc/R/include     -O2 -Wall  -c register.cc -o register.o
g++   -Ie:/biocbld/bbs-2.3-bioc/R/include     -O2 -Wall  -c sortped.cc -o sortped.o
windres --preprocessor="gcc -E -xc -DRC_INVOKED" -I e:/biocbld/bbs-2.3-bioc/R/include  -i GeneticsPed_res.rc -o GeneticsPed_res.o
g++   -shared -s  -o GeneticsPed.dll GeneticsPed.def sargolzaei.o ggmatmult.o gpi.o ainverse.o eibd.o inbreed.o inverseAdditive.o meuwissen.o pedSort.o pedtemplate.o register.o sortped.o GeneticsPed_res.o  -Le:/biocbld/bbs-2.3-bioc/R/bin   -lgfortran -lR
  ... DLL made
  installing DLL
  installing R files
  installing inst files
  installing data files
  preparing package GeneticsPed for lazy loading
Loading required package: gdata
Loading required package: genetics
Loading required package: combinat
Attaching package: 'combinat'
	The following object(s) are masked from package:utils :
	 combn 
Loading required package: gtools
Loading required package: MASS
Loading required package: mvtnorm
Attaching package: 'genetics'
	The following object(s) are masked from package:base :
	 %in%,
	 as.factor,
	 order 
  installing man source files
  installing indices
  not zipping data
  installing help
 >>> Building/Updating help pages for package 'GeneticsPed'
     Formats: text html latex example chm 
  TDT                               text    html    latex   example chm
  check                             text    html    latex   example chm
  datasets                          text    html    latex   example chm
  extend                            text    html    latex   example chm
  family                            text    html    latex   example chm
  founder                           text    html    latex   example chm
  geneContribution                  text    html    latex   example chm
  generatePedigree                  text    html    latex   example chm
  generation                        text    html    latex   example chm
  gpi                               text    html    latex   example chm
  gpiUtil                           text    html    latex   example chm
  inbreeding                        text    html    latex   example chm
  model.matrix                      text    html    latex   example chm
  nIndividual                       text    html    latex   example chm
  pedigree                          text    html    latex   example chm
  prune                             text    html    latex   example chm
  relationshipAdditive              text    html    latex   example chm
  removeIndividual                  text    html    latex   example chm
  sort.pedigree                     text    html    latex   example chm
  summary.pedigree                  text    html    latex   example chm
  undocumented                      text    html    latex           chm
Microsoft HTML Help Compiler 4.74.8702
Compiling e:\biocbld\bbs-2.3-bioc\meat\GeneticsPed\chm\GeneticsPed.chm
Compile time: 0 minutes, 0 seconds
22	Topics
103	Local links
13	Internet links
1	Graphic
Created e:\biocbld\bbs-2.3-bioc\meat\GeneticsPed\chm\GeneticsPed.chm, 55,366 bytes
Compression decreased file by 47,005 bytes.
  adding MD5 sums
* DONE (GeneticsPed)
* creating vignettes ... OK
* cleaning src
* removing junk files
* checking for LF line-endings in source and make files
* checking for empty or unneeded directories
* building 'GeneticsPed_1.4.0.tar.gz'