GeneticsDesign 1.10.0 The R Genetics Project
 | Bioconductor Changelog |  | Snapshot Date: 2009-04-18 11:27:48 -0700 (Sat, 18 Apr 2009) |  | URL: https://hedgehog.fhcrc.org/bioconductor/branches/RELEASE_2_3/madman/Rpacks/GeneticsDesign |  | Last Changed Rev: 34811 / Revision: 38965 |  | Last Changed Date: 2008-10-21 15:32:58 -0700 (Tue, 21 Oct 2008) |  
  | wilson2  | Linux (openSUSE 11.1) / x86_64  |  OK  |  OK  |  | 
| liverpool  | Windows Server 2003 R2 (32-bit) / x64  |  OK  |  OK  | [ OK ] | 
| pitt  | Mac OS X Tiger (10.4.11) / i386  |  OK  |  OK  |  OK  | 
| pelham  | Mac OS X Leopard (10.5.6) / i386  |  OK  |  OK  |  OK  | 
installing R.css in E:/biocbld/bbs-2.3-bioc/meat/GeneticsDesign.buildbin-libdir
Using auto-selected zip options ''
---------- Making package GeneticsDesign ------------
  adding build stamp to DESCRIPTION
  installing NAMESPACE file and metadata
  installing R files
  installing inst files
  preparing package GeneticsDesign for lazy loading
Loading required package: combinat
Attaching package: 'combinat'
	The following object(s) are masked from package:utils :
	 combn 
Loading required package: gdata
Loading required package: gmodels
Loading required package: gtools
Loading required package: mvtnorm
  installing man source files
  installing indices
  installing help
 >>> Building/Updating help pages for package 'GeneticsDesign'
     Formats: text html latex example chm 
  GPC                               text    html    latex   example chm
  GeneticPower.Quantitative.Numeric text    html    latex   example chm
  depreciated                       text    html    latex           chm
  gregorius                         text    html    latex   example chm
Note: removing empty section \details in file 'power.genotype.conti.Rd'
Note: removing empty section \details in file 'power.genotype.conti.Rd'
  power.genotype.conti              text    html    latex   example chm
Microsoft HTML Help Compiler 4.74.8702
Compiling e:\biocbld\bbs-2.3-bioc\meat\R.INSTALL.4648\GeneticsDesign\chm\GeneticsDesign.chm
Compile time: 0 minutes, 0 seconds
6	Topics
16	Local links
0	Internet links
1	Graphic
Created e:\biocbld\bbs-2.3-bioc\meat\R.INSTALL.4648\GeneticsDesign\chm\GeneticsDesign.chm, 27,695 bytes
Compression decreased file by 2,221 bytes.
  adding MD5 sums
packaged installation of package 'GeneticsDesign' as GeneticsDesign_1.10.0.zip
* DONE (GeneticsDesign)